BEGIN:VCALENDAR
PRODID:NingEventWidget-v1
VERSION:2.0
METHOD:PUBLISH
BEGIN:VTIMEZONE
TZID:Europe/London
X-LIC-LOCATION:Europe/London
BEGIN:DAYLIGHT
TZOFFSETFROM:+0000
TZOFFSETTO:+0100
TZNAME:BST
DTSTART:19700329T010000
RRULE:FREQ=YEARLY;BYMONTH=3;BYDAY=-1SU
END:DAYLIGHT
BEGIN:STANDARD
TZOFFSETFROM:+0100
TZOFFSETTO:+0000
TZNAME:GMT
DTSTART:19701025T020000
RRULE:FREQ=YEARLY;BYMONTH=10;BYDAY=-1SU
END:STANDARD
END:VTIMEZONE
BEGIN:VEVENT
UID:6278630:Event:122975
DTSTAMP:20260425T000254Z
SUMMARY:Friends of Broomfield Park Open Meeting
DESCRIPTION:\n\nAn opportunity to update each other as to the results 
 of the recent fire in the stableblock\n\nFor more information visit ht
 tps://bowesandbounds.org/events/friends-of-broomfield-park-open-meetin
 g-9
DTSTART;TZID=Europe/London:20170515T191500
DTEND;TZID=Europe/London:20170515T210000
CATEGORIES:meeting
LOCATION:Ruth Winston Centre
WEBSITE:
URL:
CONTACT:
ORGANIZER;CN="Donald Smith":https://bowesandbounds.org/profile/DonaldS
 mith
ATTACH;FMTTYPE="image/jpeg":
ATTENDEE;ROLE=REQ-PARTICIPANT;PARTSTAT=ACCEPTED;RSVP=TRUE;CN="Donald S
 mith":https://bowesandbounds.org/profile/DonaldSmith
END:VEVENT
END:VCALENDAR
