BEGIN:VCALENDAR
PRODID:NingEventWidget-v1
VERSION:2.0
METHOD:PUBLISH
BEGIN:VTIMEZONE
TZID:Europe/London
X-LIC-LOCATION:Europe/London
BEGIN:DAYLIGHT
TZOFFSETFROM:+0000
TZOFFSETTO:+0100
TZNAME:BST
DTSTART:19700329T010000
RRULE:FREQ=YEARLY;BYMONTH=3;BYDAY=-1SU
END:DAYLIGHT
BEGIN:STANDARD
TZOFFSETFROM:+0100
TZOFFSETTO:+0000
TZNAME:GMT
DTSTART:19701025T020000
RRULE:FREQ=YEARLY;BYMONTH=10;BYDAY=-1SU
END:STANDARD
END:VTIMEZONE
BEGIN:VEVENT
UID:6278630:Event:134492
DTSTAMP:20260419T171203Z
SUMMARY:FRIENDS of MUSWELL HILL LIBRARY : Celebrating Poetry
DESCRIPTION: \nThe Friends of Muswell Hill Library invite you to the 
 third in our series of meetings celebrating poetry.  The theme is lov
 e poetry from 17th and 18th centuries.  Choose a short published poem
  and tell us why you've chosen it. This is a free event, all welcome.\
 n\nFor more information visit https://bowesandbounds.org/events/friend
 s-of-muswell-hill-library-celebrating-poetry
DTSTART;TZID=Europe/London:20190209T140000
DTEND;TZID=Europe/London:20190209T150000
CATEGORIES:"poetry reading"
LOCATION:Muswell Hill Library
WEBSITE:https://www.google.com/maps?client=safari&amp;amp;rls=en&amp;a
 mp;q=muswell+hill+library&amp;amp;oe=UTF-8&amp;amp;um=1&amp;amp;ie=UTF
 -8&amp;amp;sa=X&amp;amp;ved=0ahUKEwjj1O-K0JDgAhXjAGMBHVlQCSsQ_AUIDigB
URL:https://www.google.com/maps?client=safari&amp;amp;rls=en&amp;amp;q
 =muswell+hill+library&amp;amp;oe=UTF-8&amp;amp;um=1&amp;amp;ie=UTF-8&a
 mp;amp;sa=X&amp;amp;ved=0ahUKEwjj1O-K0JDgAhXjAGMBHVlQCSsQ_AUIDigB
CONTACT:
ORGANIZER;CN="Deirdre Stowell-Smith":https://bowesandbounds.org/profil
 e/DeirdreStowellSmith
ATTACH;FMTTYPE="image/jpeg":https://storage.ning.com/topology/rest/1.0
 /file/get/908549186?profile=original
ATTENDEE;ROLE=REQ-PARTICIPANT;PARTSTAT=ACCEPTED;RSVP=TRUE;CN="Deirdre 
 Stowell-Smith":https://bowesandbounds.org/profile/DeirdreStowellSmith
END:VEVENT
END:VCALENDAR
