BEGIN:VCALENDAR
PRODID:NingEventWidget-v1
VERSION:2.0
METHOD:PUBLISH
BEGIN:VTIMEZONE
TZID:Europe/London
X-LIC-LOCATION:Europe/London
BEGIN:DAYLIGHT
TZOFFSETFROM:+0000
TZOFFSETTO:+0100
TZNAME:BST
DTSTART:19700329T010000
RRULE:FREQ=YEARLY;BYMONTH=3;BYDAY=-1SU
END:DAYLIGHT
BEGIN:STANDARD
TZOFFSETFROM:+0100
TZOFFSETTO:+0000
TZNAME:GMT
DTSTART:19701025T020000
RRULE:FREQ=YEARLY;BYMONTH=10;BYDAY=-1SU
END:STANDARD
END:VTIMEZONE
BEGIN:VEVENT
UID:6278630:Event:114465
DTSTAMP:20260422T184453Z
SUMMARY:From Simple Beginnings
DESCRIPTION:A brand new comedy that might just make you think...\n\nA 
 church somewhat familiar and a Bible study unlike any other; From Simp
 le Beginnings, much like the book of Acts, follows a group of people t
 rying to be obedient to God and worship together while doing their ver
 y best to get along. When things go hilariously wrong and the plan see
 ms to fail can the church see beyond itself and be part of God’s muc
 h bigger agenda?\n\nA show that is sure to bring a smile and a reminde
 r that God often works in the most mysterious ways and surprising plac
 es...\n\nTickets available @ www.searchlighttheatre.org/box-office/458
 9142682/palmers-green-saturday-25th-june/10724452\n\nFor more informat
 ion visit https://bowesandbounds.org/events/from-simple-beginnings
DTSTART;TZID=Europe/London:20160625T191500
DTEND;TZID=Europe/London:20160625T213000
CATEGORIES:comedy, theatre
LOCATION:Riverside Community Church
WEBSITE:http://www.riversidelccelim.org.uk
URL:http://www.riversidelccelim.org.uk
CONTACT:02088887181
ORGANIZER;CN="Bediako Bosque-Hamilton (Parson)":https://bowesandbounds
 .org/profile/BediakoBosqueHamiltonRev
ATTACH;FMTTYPE="image/jpeg":http://storage.ning.com/topology/rest/1.0/
 file/get/2287316594?profile=original
ATTENDEE;ROLE=REQ-PARTICIPANT;PARTSTAT=ACCEPTED;RSVP=TRUE;CN="Bediako 
 Bosque-Hamilton (Parson)":https://bowesandbounds.org/profile/BediakoBo
 squeHamiltonRev
END:VEVENT
END:VCALENDAR
