BEGIN:VCALENDAR
PRODID:NingEventWidget-v1
VERSION:2.0
METHOD:PUBLISH
BEGIN:VTIMEZONE
TZID:Europe/London
X-LIC-LOCATION:Europe/London
BEGIN:DAYLIGHT
TZOFFSETFROM:+0000
TZOFFSETTO:+0100
TZNAME:BST
DTSTART:19700329T010000
RRULE:FREQ=YEARLY;BYMONTH=3;BYDAY=-1SU
END:DAYLIGHT
BEGIN:STANDARD
TZOFFSETFROM:+0100
TZOFFSETTO:+0000
TZNAME:GMT
DTSTART:19701025T020000
RRULE:FREQ=YEARLY;BYMONTH=10;BYDAY=-1SU
END:STANDARD
END:VTIMEZONE
BEGIN:VEVENT
UID:6278630:Event:80569
DTSTAMP:20260425T174214Z
SUMMARY:Fun Food & Faith
DESCRIPTION:Saturday 2nd August 10-4, Activities for all ages, shared 
 meal, information and performing arts presentations. Hosted by Trinity
  at Bowes Methodist Church and Oakthorpe Turkish School, held at Trini
 ty at Bowes, Palmerston Road, N22 8RA. Complementary meal vouchers fro
 m faith representatives or the TaB office 020 8888 2797. All invited. 
 Faith groups who wish to get involved contact Nadine at TaB or Suzy Go
 dfrey 07931 766006   TaB Centre Plus 0208888 2797 Trinity at Bowes Met
 hodist Church Palmerston Road, London, N22 8RA Registered Charity numb
 er:1128117\n\nFor more information visit https://bowesandbounds.org/ev
 ents/fun-food-faith
DTSTART;TZID=Europe/London:20140802T100000
DTEND;TZID=Europe/London:20140802T160000
CATEGORIES:interfaith, community, event
LOCATION:Trinity at Bowes Methodist Church
WEBSITE:http://www.trinityatbowes.co.uk
URL:http://www.trinityatbowes.co.uk
CONTACT:TaB office 020 8888 2797.
ORGANIZER;CN="Susan (Suzy) Margaret Godfrey":https://bowesandbounds.or
 g/profile/SusanSuzyMargaretGodfrey
ATTACH;FMTTYPE="image/jpeg":http://storage.ning.com/topology/rest/1.0/
 file/get/2287269020?profile=original
ATTENDEE;ROLE=REQ-PARTICIPANT;PARTSTAT=ACCEPTED;RSVP=TRUE;CN="Susan (S
 uzy) Margaret Godfrey":https://bowesandbounds.org/profile/SusanSuzyMar
 garetGodfrey
END:VEVENT
END:VCALENDAR
