BEGIN:VCALENDAR
PRODID:NingEventWidget-v1
VERSION:2.0
METHOD:PUBLISH
BEGIN:VTIMEZONE
TZID:Europe/London
X-LIC-LOCATION:Europe/London
BEGIN:DAYLIGHT
TZOFFSETFROM:+0000
TZOFFSETTO:+0100
TZNAME:BST
DTSTART:19700329T010000
RRULE:FREQ=YEARLY;BYMONTH=3;BYDAY=-1SU
END:DAYLIGHT
BEGIN:STANDARD
TZOFFSETFROM:+0100
TZOFFSETTO:+0000
TZNAME:GMT
DTSTART:19701025T020000
RRULE:FREQ=YEARLY;BYMONTH=10;BYDAY=-1SU
END:STANDARD
END:VTIMEZONE
BEGIN:VEVENT
UID:6278630:Event:83927
DTSTAMP:20260419T143912Z
SUMMARY:Fungus walk
DESCRIPTION:Explore the diverse fungi in the wood with local field myc
 ologist and 'Fungi-to-be-with', Andy Overall.\nMeet at the middle ent
 rance to the woods on Creighton Avenue (N10 1NT), opposite Ringwood Av
 enue.\nFree, but a donation of £3 per adult is appreciated.\n\nFor mo
 re information visit https://bowesandbounds.org/events/fungus-walk
DTSTART;TZID=Europe/London:20141004T143000
DTEND;TZID=Europe/London:20141004T163000
CATEGORIES:nature, walk
LOCATION:Muswell Hill
WEBSITE:http://www.coldfallwoods.co.uk
URL:http://www.coldfallwoods.co.uk
CONTACT:
ORGANIZER;CN="Krishna Ramamurthy":https://bowesandbounds.org/profile/K
 rishnaRamamurthy
ATTACH;FMTTYPE="image/jpeg":http://storage.ning.com/topology/rest/1.0/
 file/get/2287271646?profile=original
ATTENDEE;ROLE=REQ-PARTICIPANT;PARTSTAT=ACCEPTED;RSVP=TRUE;CN="Krishna 
 Ramamurthy":https://bowesandbounds.org/profile/KrishnaRamamurthy
END:VEVENT
END:VCALENDAR
