BEGIN:VCALENDAR
PRODID:NingEventWidget-v1
VERSION:2.0
METHOD:PUBLISH
BEGIN:VTIMEZONE
TZID:Europe/London
X-LIC-LOCATION:Europe/London
BEGIN:DAYLIGHT
TZOFFSETFROM:+0000
TZOFFSETTO:+0100
TZNAME:BST
DTSTART:19700329T010000
RRULE:FREQ=YEARLY;BYMONTH=3;BYDAY=-1SU
END:DAYLIGHT
BEGIN:STANDARD
TZOFFSETFROM:+0100
TZOFFSETTO:+0000
TZNAME:GMT
DTSTART:19701025T020000
RRULE:FREQ=YEARLY;BYMONTH=10;BYDAY=-1SU
END:STANDARD
END:VTIMEZONE
BEGIN:VEVENT
UID:6278630:Event:130084
DTSTAMP:20260425T124932Z
SUMMARY:General English Elementary/ Pre-Intermediate Course
DESCRIPTION:GENERAL ENGLISH ELEMENTARY COURSE Learn English fast at G
 abriella English Language School! You will have fun learning in a sma
 ll group (maximum 6 students) with a highly qualified and experienced 
 native English teacher.***********************************COURSE DESCR
 IPTION You will learn: - To introduce yourself, ask and answer quest
 ions about personal details, likes and dislikes and daily routines. -
  To understand and use simple vocabulary, phrases and idioms useful fo
 r everyday life in the UK. - To express your opinion on topics of per
 sonal interest such as experiences, events, hopes, ambitions and plans
 . *********************************COURSE DETAILSDAYS: Mondays and We
 dnesdays TIMES: 10am-1pm (6 hours a week) COURSE DATES: 8 Jan - 28 M
 ar 2018COURSE PRICE: Per Term: £576 (12 weeks - 6 hours a week)Per M
 onth: £216 (4 weeks - 6 hours a week)The first hour is FREE!VENUE: Ga
 briella English Language School, Brownlow Road, London N11 **********
 ***************************WHY US? ✴️ Fun, Communicative Lessons
 ✴️ Highly Qualified Experienced Native English Teacher ✴️ Ma
 ximum 6 Students ✴️ More Individual Attention ✴️ Faster Prog
 ress ✴️ Great Prices *************************************TESTIM
 ONIALS:  \"Gabriella school helped me with my English when I needed 
 it most. I went to the job interview, more secure of my English and t
 hey gave me the job.\" Raquel, Spain\"Gabriella School is headed by S
 ureka, a great teacher, who teaches us the language English with joy a
 nd good mood! Meet new people from around the world, learn through ac
 tivities, quizzes, conversations and other exercises in a cool and dyn
 amic atmosphere! I recommend this school for its effectiveness and joy
  in life!\" Arnaud, France TO BOOK/ FOR MORE INFOCall Sureka on 0798
 4 136 961 or email gabriella.englishschool@gmail.comI look forward to 
 welcoming you to Gabriella English Language School!Sureka FernandoDire
 ctorGabriella English Language School+44 (0) 7984 136 961gabriella.eng
 lishschool@gmail.com\n\nFor more information visit https://bowesandbou
 nds.org/events/general-english-elementary-pre-intermediate-course-6
DTSTART;TZID=Europe/London:20180205T100000
DTEND;TZID=Europe/London:20180219T130000
CATEGORIES:english, language, classes, bounds, green, n11, london, mon
 day, wednesday, elementary, pre-intermediate
LOCATION:Gabriella English Language School
WEBSITE:https://www.facebook.com/GabriellaSchool/
URL:https://www.facebook.com/GabriellaSchool/
CONTACT:07984 136 961
ORGANIZER;CN="Sureka Fernando":https://bowesandbounds.org/profile/Sure
 kaFernando
ATTACH;FMTTYPE="image/jpeg":http://storage.ning.com/topology/rest/1.0/
 file/get/2287323189?profile=original
ATTENDEE;ROLE=REQ-PARTICIPANT;PARTSTAT=ACCEPTED;RSVP=TRUE;CN="Sureka F
 ernando":https://bowesandbounds.org/profile/SurekaFernando
END:VEVENT
END:VCALENDAR
