BEGIN:VCALENDAR
PRODID:NingEventWidget-v1
VERSION:2.0
METHOD:PUBLISH
BEGIN:VTIMEZONE
TZID:Europe/London
X-LIC-LOCATION:Europe/London
BEGIN:DAYLIGHT
TZOFFSETFROM:+0000
TZOFFSETTO:+0100
TZNAME:BST
DTSTART:19700329T010000
RRULE:FREQ=YEARLY;BYMONTH=3;BYDAY=-1SU
END:DAYLIGHT
BEGIN:STANDARD
TZOFFSETFROM:+0100
TZOFFSETTO:+0000
TZNAME:GMT
DTSTART:19701025T020000
RRULE:FREQ=YEARLY;BYMONTH=10;BYDAY=-1SU
END:STANDARD
END:VTIMEZONE
BEGIN:VEVENT
UID:6278630:Event:129786
DTSTAMP:20260425T124809Z
SUMMARY:General English Intermediate/ Upper-Intermediate Course
DESCRIPTION:GENERAL ENGLISH INTERMEDIATE/ UPPER-INTERMEDIATE COURSE  L
 earn English fast at Gabriella English Language School!   You will ha
 ve fun learning in a small group (maximum 6 students) with a highly qu
 alified and experienced native English teacher.  *********************
 **************  COURSE DESCRIPTION  You will learn:   - To understand
  and discuss familiar topics such as hobbies, travel, work and lifesty
 le using the correct vocabulary, grammar and pronunciation.   - To de
 al with most situations arising from every day life in London includin
 g shopping, banking, telephone calls, emails and more.   - To express
  opinions, ambitions and ideas about the past, present and future.   
 **************************************  COURSE DETAILS  DAYS: Tuesdays
  and Thursdays   TIMES: 10am-1pm (6 hours a week)   COURSE DATES: 9 
 Jan - 29 Mar 2018  COURSE PRICE:   Per Term: £576 (12 weeks - 6 hour
 s a week) Per Month: £216 (4 weeks - 6 hours a week) The first hour i
 s FREE!  VENUE: Gabriella English Language School, Brownlow Road, Lond
 on N11   ******************************************  WHY US?   ✴
  Fun, Communicative Lessons  ✴️ Highly Qualified Experienced Nat
 ive English Teacher  ✴️ Maximum 6 Students  ✴️ More Individu
 al Attention  ✴️ Faster Progress  ✴️ Great Prices   *******
 *************************************  TESTIMONIALS:   \"Gabriella Sc
 hool is headed by Sureka, a great teacher, who teaches us the language
  English with joy and good mood!  Meet new people from around the wor
 ld, learn through activities, quizzes, conversations and other exercis
 es in a cool and dynamic atmosphere! I recommend this school for its e
 ffectiveness and joy in life!\"  Arnaud, France   \"Hi Sureka, I jus
 t wanted to tell you that I got the result of my first assessment at U
 ni and I got an A. That wouldn't be possible without your help. You're
  an amazing teacher and I just wanted to thank you.\"  Francesca, Ita
 ly   \"Gabriella school helped me with my English when I needed it mo
 st.  I went to the job interview, more secure of my English and they 
 gave me the job.\"  Raquel, Spain    TO BOOK/ FOR MORE INFO  Call Su
 reka on 07984 136 961 or email gabriella.englishschool@gmail.com  I lo
 ok forward to welcoming you to Gabriella English Language School!  Sur
 eka Fernando Director Gabriella English Language School +44 (0) 7984 1
 36 961 gabriella.englishschool@gmail.com\n\nFor more information visit
  https://bowesandbounds.org/events/general-english-intermediate-upper-
 intermediate-course-5
DTSTART;TZID=Europe/London:20180130T100000
DTEND;TZID=Europe/London:20180213T130000
CATEGORIES:english, language, course, intermediate, upper, tuesday, th
 ursday, bounds, green
LOCATION:Gabriella English Language School
WEBSITE:https://www.facebook.com/GabriellaSchool/
URL:https://www.facebook.com/GabriellaSchool/
CONTACT:07984 136 961
ORGANIZER;CN="Sureka Fernando":https://bowesandbounds.org/profile/Sure
 kaFernando
ATTACH;FMTTYPE="image/jpeg":http://storage.ning.com/topology/rest/1.0/
 file/get/2287322171?profile=original
ATTENDEE;ROLE=REQ-PARTICIPANT;PARTSTAT=ACCEPTED;RSVP=TRUE;CN="Sureka F
 ernando":https://bowesandbounds.org/profile/SurekaFernando
END:VEVENT
END:VCALENDAR
