BEGIN:VCALENDAR
PRODID:NingEventWidget-v1
VERSION:2.0
METHOD:PUBLISH
BEGIN:VTIMEZONE
TZID:Europe/London
X-LIC-LOCATION:Europe/London
BEGIN:DAYLIGHT
TZOFFSETFROM:+0000
TZOFFSETTO:+0100
TZNAME:BST
DTSTART:19700329T010000
RRULE:FREQ=YEARLY;BYMONTH=3;BYDAY=-1SU
END:DAYLIGHT
BEGIN:STANDARD
TZOFFSETFROM:+0100
TZOFFSETTO:+0000
TZNAME:GMT
DTSTART:19701025T020000
RRULE:FREQ=YEARLY;BYMONTH=10;BYDAY=-1SU
END:STANDARD
END:VTIMEZONE
BEGIN:VEVENT
UID:6278630:Event:73649
DTSTAMP:20260422T230011Z
SUMMARY:Geraldine Anwar
DESCRIPTION:A practical session in the conservatory.\nLearn to propaga
 te plants from cuttings and take a plant home to grow on\n\nFor more i
 nformation visit https://bowesandbounds.org/events/geraldine-anwar
DTSTART;TZID=Europe/London:20140309T141500
DTEND;TZID=Europe/London:20140309T154500
CATEGORIES:gardening
LOCATION:Broomfield Park Conservatory
WEBSITE:http://www.friendsofbroomfieldpark.org
URL:http://www.friendsofbroomfieldpark.org
CONTACT:
ORGANIZER;CN="Geraldine Anwar":https://bowesandbounds.org/profile/Gera
 ldineAnwar
ATTACH;FMTTYPE="image/jpeg":http://storage.ning.com/topology/rest/1.0/
 file/get/2287250961?profile=original
ATTENDEE;ROLE=REQ-PARTICIPANT;PARTSTAT=ACCEPTED;RSVP=TRUE;CN="Geraldin
 e Anwar":https://bowesandbounds.org/profile/GeraldineAnwar
END:VEVENT
END:VCALENDAR
