BEGIN:VCALENDAR
PRODID:NingEventWidget-v1
VERSION:2.0
METHOD:PUBLISH
BEGIN:VTIMEZONE
TZID:Europe/London
X-LIC-LOCATION:Europe/London
BEGIN:DAYLIGHT
TZOFFSETFROM:+0000
TZOFFSETTO:+0100
TZNAME:BST
DTSTART:19700329T010000
RRULE:FREQ=YEARLY;BYMONTH=3;BYDAY=-1SU
END:DAYLIGHT
BEGIN:STANDARD
TZOFFSETFROM:+0100
TZOFFSETTO:+0000
TZNAME:GMT
DTSTART:19701025T020000
RRULE:FREQ=YEARLY;BYMONTH=10;BYDAY=-1SU
END:STANDARD
END:VTIMEZONE
BEGIN:VEVENT
UID:6278630:Event:23818
DTSTAMP:20260425T161101Z
SUMMARY:Get Online Day (Free Entry)
DESCRIPTION:\nA FREE local event to encourage onliners to give an hour
  to inspire and help someone else use the internet, and offliners to s
 pend an hour giving the internet a go!This year, Get online week takes
  place from 30 October to 6 November, and it’s all about giving an h
 our, or spending an hour…With the clocks going back on Sunday 30 Oct
 ober, everyone across the UK has a spare hour – and we want them to 
 use it online!We will be encouraging onliners to give an hour to inspi
 re and help someone else use the internet, and offliners to spend an h
 our giving the internet a go at this local event.It’s the fifth year
  of the Get online week campaign, and we’re aiming to hold two event
 s at Ming-Ai to help more people get to grips with computers and the i
 nternet.Tutor: Mr Y. P. Chung, a senior Computer and Telecommunication
 s Consultant. He will share his experience and knowledge with people w
 ho may like to broaden their computing knowledge and to help people wh
 o may be struggling and frustrated by problems with their computers.Dr
 op-in welcome but booking requires. Please contact 020 8361 7161 to re
 serve your place.\n\n\n\n\n\n\n\n\n\n\n\n\n\nFor more information visi
 t https://bowesandbounds.org/events/get-online-day-free-entry-1
DTSTART;TZID=Europe/London:20111105T103000
DTEND;TZID=Europe/London:20111105T150000
CATEGORIES:computer, internet, "get online", "free event"
LOCATION:Ming-Ai (London) Institute
WEBSITE:http://www.ming-ai.org.uk/institute/contact-us
URL:http://www.ming-ai.org.uk/institute/contact-us
CONTACT:020 8361 7161
ORGANIZER;CN="Ming-Ai (London) Institute":https://bowesandbounds.org/p
 rofile/CARRIEXU
ATTACH;FMTTYPE="image/jpeg":http://storage.ning.com/topology/rest/1.0/
 file/get/2287228745?profile=original
ATTENDEE;ROLE=REQ-PARTICIPANT;PARTSTAT=ACCEPTED;RSVP=TRUE;CN="Ming-Ai 
 (London) Institute":https://bowesandbounds.org/profile/CARRIEXU
END:VEVENT
END:VCALENDAR
