BEGIN:VCALENDAR
PRODID:NingEventWidget-v1
VERSION:2.0
METHOD:PUBLISH
BEGIN:VTIMEZONE
TZID:Europe/London
X-LIC-LOCATION:Europe/London
BEGIN:DAYLIGHT
TZOFFSETFROM:+0000
TZOFFSETTO:+0100
TZNAME:BST
DTSTART:19700329T010000
RRULE:FREQ=YEARLY;BYMONTH=3;BYDAY=-1SU
END:DAYLIGHT
BEGIN:STANDARD
TZOFFSETFROM:+0100
TZOFFSETTO:+0000
TZNAME:GMT
DTSTART:19701025T020000
RRULE:FREQ=YEARLY;BYMONTH=10;BYDAY=-1SU
END:STANDARD
END:VTIMEZONE
BEGIN:VEVENT
UID:6278630:Event:73700
DTSTAMP:20260419T195506Z
SUMMARY:Give and take day at the Noel Park Market
DESCRIPTION:Start off March with a spring clean.\n\nWe are having a sp
 ecial give and take booth at the market this Sunday 2/3.Â The aim of a
  Give and Take event is to reduce, reuse and recycle â€“ the three Râ€
 ™s â€“ enabling you to swap usable items in an easy and sustainable wa
 y.\nPass on items you no longer want, that are in good condition and w
 orking order for others to reuse. You can even pick up something new. 
 Popular items include clothing, kitchenware, books, CDs, DVDs, bric-a-
 brac, toys and games. The only items we cannot accept are bulky (such 
 as furniture) and electrical. Please only bring items that are in safe
  and working order.\n\n\n\n\nFor more information visit https://bowesa
 ndbounds.org/events/give-and-take-day-at-the-noel-park-market
DTSTART;TZID=Europe/London:20140302T100000
DTEND;TZID=Europe/London:20140302T140000
CATEGORIES:giveandtake
LOCATION:Noel Park Market
WEBSITE:http://noelparkmarket.co.uk/this-week-at-the-market/
URL:http://noelparkmarket.co.uk/this-week-at-the-market/
CONTACT:
ORGANIZER;CN="Rachella Sinclair":https://bowesandbounds.org/profile/Ra
 chellaSinclair
ATTACH;FMTTYPE="image/jpeg":http://storage.ning.com/topology/rest/1.0/
 file/get/2287256535?profile=original
ATTENDEE;ROLE=REQ-PARTICIPANT;PARTSTAT=ACCEPTED;RSVP=TRUE;CN="Rachella
  Sinclair":https://bowesandbounds.org/profile/RachellaSinclair
END:VEVENT
END:VCALENDAR
