BEGIN:VCALENDAR
PRODID:NingEventWidget-v1
VERSION:2.0
METHOD:PUBLISH
BEGIN:VTIMEZONE
TZID:Europe/London
X-LIC-LOCATION:Europe/London
BEGIN:DAYLIGHT
TZOFFSETFROM:+0000
TZOFFSETTO:+0100
TZNAME:BST
DTSTART:19700329T010000
RRULE:FREQ=YEARLY;BYMONTH=3;BYDAY=-1SU
END:DAYLIGHT
BEGIN:STANDARD
TZOFFSETFROM:+0100
TZOFFSETTO:+0000
TZNAME:GMT
DTSTART:19701025T020000
RRULE:FREQ=YEARLY;BYMONTH=10;BYDAY=-1SU
END:STANDARD
END:VTIMEZONE
BEGIN:VEVENT
UID:6278630:Event:104840
DTSTAMP:20260424T011120Z
SUMMARY:Good Old Mr Scrooge
DESCRIPTION:Tickets are £5 each on the door.\n\n'Good Old Mr Scrooge'
  is a theatre adaptation of Charles Dickens' famous novel 'A Christmas
  Carol' by the Searchlight Theatre Company.\n\nThe following was from 
 a review of the production in the The Pickwick Papers by Little Dorrit
 … “It will make you forget your bleak house - and even if you have
  fallen on hard times, it promises to exceed all your great expectatio
 ns” \n\nSo let 'Ebenezer Scrooge' take you on a Christmas adventure
 . You might just have the chance to bump into a few of your favourite 
 Dickens characters along the way. Be enthralled by the magic of David 
 Copperfield and the plot twists of Oliver in this Old Curiosity Shop o
 f a play.  \n\nThis promises to be a brilliant evening suitable for a
 ll - so we invite you to come along with family and friends to be ente
 rtained and inspired!\n\nFor more information visit https://bowesandbo
 unds.org/events/good-old-mr-scrooge
DTSTART;TZID=Europe/London:20151211T193000
DTEND;TZID=Europe/London:20151211T213000
CATEGORIES:christmas, theatrical, performance
LOCATION:Riverside Community Church
WEBSITE:http://riversidelccelim.org.uk
URL:http://riversidelccelim.org.uk
CONTACT:02088887181
ORGANIZER;CN="Bediako Bosque-Hamilton (Parson)":https://bowesandbounds
 .org/profile/BediakoBosqueHamiltonRev
ATTACH;FMTTYPE="image/jpeg":http://storage.ning.com/topology/rest/1.0/
 file/get/2287301682?profile=original
ATTENDEE;ROLE=REQ-PARTICIPANT;PARTSTAT=ACCEPTED;RSVP=TRUE;CN="Bediako 
 Bosque-Hamilton (Parson)":https://bowesandbounds.org/profile/BediakoBo
 squeHamiltonRev
END:VEVENT
END:VCALENDAR
