BEGIN:VCALENDAR
PRODID:NingEventWidget-v1
VERSION:2.0
METHOD:PUBLISH
BEGIN:VTIMEZONE
TZID:Europe/London
X-LIC-LOCATION:Europe/London
BEGIN:DAYLIGHT
TZOFFSETFROM:+0000
TZOFFSETTO:+0100
TZNAME:BST
DTSTART:19700329T010000
RRULE:FREQ=YEARLY;BYMONTH=3;BYDAY=-1SU
END:DAYLIGHT
BEGIN:STANDARD
TZOFFSETFROM:+0100
TZOFFSETTO:+0000
TZNAME:GMT
DTSTART:19701025T020000
RRULE:FREQ=YEARLY;BYMONTH=10;BYDAY=-1SU
END:STANDARD
END:VTIMEZONE
BEGIN:VEVENT
UID:6278630:Event:81269
DTSTAMP:20260422T092332Z
SUMMARY:Grand designs
DESCRIPTION:Drop in to our Bruce Castle Summer Holiday Activities. Lea
 rn how kitchen gardens were designed and decorate stones and wooden pl
 ant labels to add to ours.\nAll activities free and aimed at children 
 aged 5+.\nUnder 8s must be with an adult.\nDrop in 2pm-4pm.\nKindly su
 pported by Awards for All, the Friends of Bruce Castle and Groundwork.
 \n\nFor more information visit https://bowesandbounds.org/events/grand
 -designs
DTSTART;TZID=Europe/London:20140803T140000
DTEND;TZID=Europe/London:20140803T160000
CATEGORIES:summer, holiday, activities
LOCATION:Bruce Castle Museum
WEBSITE:http://www.haringey.gov.uk/brucecastlemuseum
URL:http://www.haringey.gov.uk/brucecastlemuseum
CONTACT:020 8808 8772
ORGANIZER;CN="Mark Wells":https://bowesandbounds.org/profile/MarkWells
ATTACH;FMTTYPE="image/jpeg":http://storage.ning.com/topology/rest/1.0/
 file/get/2287266629?profile=original
ATTENDEE;ROLE=REQ-PARTICIPANT;PARTSTAT=ACCEPTED;RSVP=TRUE;CN="Mark Wel
 ls":https://bowesandbounds.org/profile/MarkWells
END:VEVENT
END:VCALENDAR
