BEGIN:VCALENDAR
PRODID:NingEventWidget-v1
VERSION:2.0
METHOD:PUBLISH
BEGIN:VTIMEZONE
TZID:Europe/London
X-LIC-LOCATION:Europe/London
BEGIN:DAYLIGHT
TZOFFSETFROM:+0000
TZOFFSETTO:+0100
TZNAME:BST
DTSTART:19700329T010000
RRULE:FREQ=YEARLY;BYMONTH=3;BYDAY=-1SU
END:DAYLIGHT
BEGIN:STANDARD
TZOFFSETFROM:+0100
TZOFFSETTO:+0000
TZNAME:GMT
DTSTART:19701025T020000
RRULE:FREQ=YEARLY;BYMONTH=10;BYDAY=-1SU
END:STANDARD
END:VTIMEZONE
BEGIN:VEVENT
UID:6278630:Event:246959
DTSTAMP:20260419T205410Z
SUMMARY:Granny Squares workshop! Saturday 27th April, 1:00-3:00 £45.0
 0
DESCRIPTION:Want to make gorgeous granny squares that would make your 
 grannies jealous!\nThe perfect follow on workshops for beginner croche
 ters. Come join us at Stitch with Kay Dudman and learn to create these
  colourful squares. You can later join them to make blankets, throws, 
 scarfs and even jumpers.\nWe will focus on how you can use colour and
  texture to create unique and beautiful designs with a simple Granny S
 quare. The workshop will also focus on forming a square, switching col
 ours, joining techniques and making tassels.\nIf you have completed be
 ginners crochet with us or have basic crochet skills, like to have fun
  experimenting with design and colour and potentially new yarns, this 
 is for YOU!\nThis is a class for people with basic crochet skills alre
 ady.\nWe will provide yarns but please do bring your crochet hook (siz
 e 4 or 5) and any yarns you want to experiment and have fun with!\nDur
 ation: 2 hours\nDate: Saturday 27th April, 1:00-3:00pm\nCost: £45.00\
 nLOCATION: 2 Hazelwood Lane, Palmers Green N13 5EX\nSPACES: 8\nThis is
  a class for adults.\nPlease ensure you have read fully our terms and 
 conditions.\nWe look forward to seeing you soon!\nThe StitchN13 Team x
 \n\nFor more information visit https://bowesandbounds.org/events/grann
 y-squares-workshop-saturday-27th-april-1-00-3-00-45-00
DTSTART;TZID=Europe/London:20240410T180000
DTEND;TZID=Europe/London:20240410T190000
CATEGORIES:crochet, class
LOCATION:2 Hazelwood Lane, Palmers Green N13 5EX
WEBSITE:https://www.stitch.org.uk/
URL:https://www.stitch.org.uk/
CONTACT:07903 614726
ORGANIZER;CN="Suzanne Kelly":https://bowesandbounds.org/profile/Suzann
 eKelly
ATTACH;FMTTYPE="image/jpeg":https://storage.ning.com/topology/rest/1.0
 /file/get/12426285888?profile=original
ATTENDEE;ROLE=REQ-PARTICIPANT;PARTSTAT=ACCEPTED;RSVP=TRUE;CN="Suzanne 
 Kelly":https://bowesandbounds.org/profile/SuzanneKelly
END:VEVENT
END:VCALENDAR
