BEGIN:VCALENDAR
PRODID:NingEventWidget-v1
VERSION:2.0
METHOD:PUBLISH
BEGIN:VTIMEZONE
TZID:Europe/London
X-LIC-LOCATION:Europe/London
BEGIN:DAYLIGHT
TZOFFSETFROM:+0000
TZOFFSETTO:+0100
TZNAME:BST
DTSTART:19700329T010000
RRULE:FREQ=YEARLY;BYMONTH=3;BYDAY=-1SU
END:DAYLIGHT
BEGIN:STANDARD
TZOFFSETFROM:+0100
TZOFFSETTO:+0000
TZNAME:GMT
DTSTART:19701025T020000
RRULE:FREQ=YEARLY;BYMONTH=10;BYDAY=-1SU
END:STANDARD
END:VTIMEZONE
BEGIN:VEVENT
UID:6278630:Event:133212
DTSTAMP:20260421T150501Z
SUMMARY:Green Open Homes
DESCRIPTION:\n\nBooking is now open online for free tours of stylish
 , low-energy 'green' homes not far from you.   On Sunday 4th Novemb
 er and Saturday 10th November meet householders who've improved comfo
 rt and cut energy bills, and pick up ideas for your own home.Visit hom
 es in Muswell Hill, Crouch End, Alexandra Park, Highgate and Tottenham
 , plus the Meadow Orchard Community Garden's cob and straw eco-buildin
 g (pictured above).Find out direct from the householders about up-to-d
 ate insulation, draughtproofing, heating and renewable energy systems.
   We can also direct you to local installers and suppliers our member
 s have found trustworthy.  Visits last one hour - numbers on each to
 ur are limited so please book your place here.\n\n\n\n\n\n\n\n\n\n\n\
 n\n\n\n\n\n\nFor more information visit https://bowesandbounds.org/eve
 nts/green-open-homes-1
DTSTART;TZID=Europe/London:20181110T000000
DTEND;TZID=Europe/London:20181110T235900
CATEGORIES:free, visits, to, energy-efficient, homes
LOCATION:Homes in Alexandra Park, Muswell Hill, Crouch End, Highgate a
 nd Tottenham
WEBSITE:
URL:
CONTACT:-
ORGANIZER;CN="Mary Blake":https://bowesandbounds.org/profile/MaryBlake
ATTACH;FMTTYPE="image/jpeg":http://storage.ning.com/topology/rest/1.0/
 file/get/2287332694?profile=original
ATTENDEE;ROLE=REQ-PARTICIPANT;PARTSTAT=ACCEPTED;RSVP=TRUE;CN="Mary Bla
 ke":https://bowesandbounds.org/profile/MaryBlake
END:VEVENT
END:VCALENDAR
