BEGIN:VCALENDAR
PRODID:NingEventWidget-v1
VERSION:2.0
METHOD:PUBLISH
BEGIN:VTIMEZONE
TZID:Europe/London
X-LIC-LOCATION:Europe/London
BEGIN:DAYLIGHT
TZOFFSETFROM:+0000
TZOFFSETTO:+0100
TZNAME:BST
DTSTART:19700329T010000
RRULE:FREQ=YEARLY;BYMONTH=3;BYDAY=-1SU
END:DAYLIGHT
BEGIN:STANDARD
TZOFFSETFROM:+0100
TZOFFSETTO:+0000
TZNAME:GMT
DTSTART:19701025T020000
RRULE:FREQ=YEARLY;BYMONTH=10;BYDAY=-1SU
END:STANDARD
END:VTIMEZONE
BEGIN:VEVENT
UID:6278630:Event:115962
DTSTAMP:20260425T043907Z
SUMMARY:Guests from Walthamstow Folk Club
DESCRIPTION:A line-up of regular performers from â€˜the Stowâ€™ â€“ Ru
 ss Chandler, Kevin Sheils, Sian Allen, John Kane, Roger Huddle and mor
 e!Â  Variety and quality guaranteed.\nâ€˜Londonâ€™s friendliest folk.â
 €™\nwww.walthamstowfolk.co.uk\nÂ£6, Mum's Bistro, 143 Myddleton Road, 
 N22 8NG.\n\nFor more information visit https://bowesandbounds.org/even
 ts/guests-from-walthamstow-folk-club
DTSTART;TZID=Europe/London:20160901T200000
DTEND;TZID=Europe/London:20160901T230000
CATEGORIES:folk, club
LOCATION:Mum's Bistro, 143 Myddleton Road, N22 8NG.
WEBSITE:
URL:
CONTACT:
ORGANIZER;CN=EyeInTheSky:https://bowesandbounds.org/profile/EyeInTheSk
 y
ATTACH;FMTTYPE="image/jpeg":http://storage.ning.com/topology/rest/1.0/
 file/get/2287313614?profile=original
ATTENDEE;ROLE=REQ-PARTICIPANT;PARTSTAT=ACCEPTED;RSVP=TRUE;CN=EyeInTheS
 ky:https://bowesandbounds.org/profile/EyeInTheSky
END:VEVENT
END:VCALENDAR
