BEGIN:VCALENDAR
PRODID:NingEventWidget-v1
VERSION:2.0
METHOD:PUBLISH
BEGIN:VTIMEZONE
TZID:Europe/London
X-LIC-LOCATION:Europe/London
BEGIN:DAYLIGHT
TZOFFSETFROM:+0000
TZOFFSETTO:+0100
TZNAME:BST
DTSTART:19700329T010000
RRULE:FREQ=YEARLY;BYMONTH=3;BYDAY=-1SU
END:DAYLIGHT
BEGIN:STANDARD
TZOFFSETFROM:+0100
TZOFFSETTO:+0000
TZNAME:GMT
DTSTART:19701025T020000
RRULE:FREQ=YEARLY;BYMONTH=10;BYDAY=-1SU
END:STANDARD
END:VTIMEZONE
BEGIN:VEVENT
UID:6278630:Event:241266
DTSTAMP:20260420T161814Z
SUMMARY:GWEN MACKEITH: WAYS INTO DIALOGUE - GETTING OUR CHARACTERS TAL
 KING
DESCRIPTION:18 December, 11am-1pm; Zoom delivery, cost £25\nDialogue 
 can capture the rhythms and cadences of spoken language, adding richne
 ss and texture to our writing. It can also root us in place and time a
 nd the lived experience of real people. Conversations between characte
 rs might reveal their inner lives in fascinating ways as well as effec
 ting the relationship between characters which sets a story in motion.
  But do you sometimes struggle with getting your characters to speak? 
 Do they sometimes dry up when you most need them to take the story for
 wards? \nWith in-depth analyses of diverse examples in fiction, we wi
 ll explore techniques for enhancing the dialogue in our own stories, a
 llowing our characters to come alive through their voices and to take 
 us where our stories need to go. \nIn this first workshop we will res
 pond to writing prompts designed to attune to our characters’ voices
  and to know better what they might say, and how. We will also respond
  to prompts which explore the ways in which dramatic tension is built 
 as characters move through their verbal exchange.\nOne of a series of 
 Sunday Masterclasses from Writing Room this Autumn.\ncontact@writingro
 om.org.uk\n\nFor more information visit https://bowesandbounds.org/eve
 nts/gwen-mackeith-ways-into-dialogue-getting-our-characters-talking
DTSTART;TZID=Europe/London:20221218T110000
DTEND;TZID=Europe/London:20221218T130000
CATEGORIES:"writing dialogue", "dialogue masterclass", "characterisati
 on and dialogue"
LOCATION:Zoom Online from Writing Room
WEBSITE:https://www.writingroom.org.uk/coursesandmasterclasses/sunday-
 masterclasses
URL:https://www.writingroom.org.uk/coursesandmasterclasses/sunday-mast
 erclasses
CONTACT:
ORGANIZER:Carmel for Writing Room
ATTACH;FMTTYPE="image/jpeg":https://storage.ning.com/topology/rest/1.0
 /file/get/10785271295?profile=original
ATTENDEE;ROLE=REQ-PARTICIPANT;PARTSTAT=ACCEPTED;RSVP=TRUE;CN="c p shor
 tall":https://bowesandbounds.org/profile/3j09t7wiq9lkd
END:VEVENT
END:VCALENDAR
