BEGIN:VCALENDAR
PRODID:NingEventWidget-v1
VERSION:2.0
METHOD:PUBLISH
BEGIN:VTIMEZONE
TZID:Europe/London
X-LIC-LOCATION:Europe/London
BEGIN:DAYLIGHT
TZOFFSETFROM:+0000
TZOFFSETTO:+0100
TZNAME:BST
DTSTART:19700329T010000
RRULE:FREQ=YEARLY;BYMONTH=3;BYDAY=-1SU
END:DAYLIGHT
BEGIN:STANDARD
TZOFFSETFROM:+0100
TZOFFSETTO:+0000
TZNAME:GMT
DTSTART:19701025T020000
RRULE:FREQ=YEARLY;BYMONTH=10;BYDAY=-1SU
END:STANDARD
END:VTIMEZONE
BEGIN:VEVENT
UID:6278630:Event:71250
DTSTAMP:20260422T025743Z
SUMMARY:Ha! Comedy Shorts - Talkies Community Cinema screening
DESCRIPTION:Wizards, mime artists, baristas and estate agents will del
 ight you at HA! comic shorts .\nOrganised by Kate and Gem from SHORT S
 IGHTED CINEMA, the evening will be a hotbed for short film maker glitt
 erati of London introducing and talking about their work.\nBook Ticket
 s online\nPart of the LOCO LONDON COMEDY FILM FESTIVAL\n \n\nDo estat
 e agents fulfil your dreams? Kate Herron might answer that in Open Hou
 se You will order your coffee carefully after Marc Hardman shows We Ar
 e What We Drink  The Wizard by Simon Guerrier gives a comic slant to a
  'back to work' scheme Cat lover or not, Pussy People from Andrew Lang
  will raise a smile  Chris Shepherd, an experienced animator and engag
 ing presence will show three animated films - Broken Jaw, Don't Fear D
 eath and his collaboration with artist David Shrigley Who I am and Wha
 t I Want  Martin Freeman takes on a very different persona in The Girl
  is Mime by Tim Bunn Dan Turner's Storm animates Tim MInchin's beat po
 em about alternative lifestyles.\nwith others in store if we have time
 ….. ….and if that is not enough to make a great evening actor Gem 
 Carmella will MC, jogging the programme along with her wit and wisdom.
 \n\n\nFor more information visit https://bowesandbounds.org/events/ha-
 comedy-shorts-talkies-community-cinema-screening
DTSTART;TZID=Europe/London:20140129T193000
DTEND;TZID=Europe/London:20140129T223000
CATEGORIES:cinema, talkies
LOCATION:The Fox
WEBSITE:http://www.talkies.org.uk/future-events
URL:http://www.talkies.org.uk/future-events
CONTACT:
ORGANIZER:Richard McKeever
ATTACH;FMTTYPE="image/jpeg":http://storage.ning.com/topology/rest/1.0/
 file/get/2287258150?profile=original
ATTENDEE;ROLE=REQ-PARTICIPANT;PARTSTAT=ACCEPTED;RSVP=TRUE;CN="Richard 
 McKeever":https://bowesandbounds.org/profile/3hwxkqhdde8gc
ATTENDEE;ROLE=REQ-PARTICIPANT;PARTSTAT=ACCEPTED;RSVP=TRUE;CN=Administr
 ator:https://bowesandbounds.org/profile/Administrator
END:VEVENT
END:VCALENDAR
