BEGIN:VCALENDAR
PRODID:NingEventWidget-v1
VERSION:2.0
METHOD:PUBLISH
BEGIN:VTIMEZONE
TZID:Europe/London
X-LIC-LOCATION:Europe/London
BEGIN:DAYLIGHT
TZOFFSETFROM:+0000
TZOFFSETTO:+0100
TZNAME:BST
DTSTART:19700329T010000
RRULE:FREQ=YEARLY;BYMONTH=3;BYDAY=-1SU
END:DAYLIGHT
BEGIN:STANDARD
TZOFFSETFROM:+0100
TZOFFSETTO:+0000
TZNAME:GMT
DTSTART:19701025T020000
RRULE:FREQ=YEARLY;BYMONTH=10;BYDAY=-1SU
END:STANDARD
END:VTIMEZONE
BEGIN:VEVENT
UID:6278630:Event:117543
DTSTAMP:20260420T141125Z
SUMMARY:Half-Term Family Activities: \"Birthday Bash: \"Fun and Games\
 "
DESCRIPTION:Join us for October half-term free family activities ''Bir
 thday Bash\" and celebrate the history of Bruce Castle on the 110th an
 niversary of the opening of Bruce Castle Museum\nDiscover the history 
 of the Coleraine family, residents of Bruce Castle in the 17th Century
 ; see if you can find the Coleraine coat of arms where our museum masc
 ot Wilbur lives. Join us for some party games and use split pins to ma
 ke your own Wilbur with detachable tail.\nSuitable for ages 5 to 13 ye
 ars.\nKindly supported by the Friends of Bruce Castle.\n\nFor more inf
 ormation visit https://bowesandbounds.org/events/half-term-family-acti
 vities-birthday-bash-fun-and-games
DTSTART;TZID=Europe/London:20161027T140000
DTEND;TZID=Europe/London:20161027T160000
CATEGORIES:family, activities, children, half, term, arts, and, crafts
LOCATION:Bruce Castle Museum
WEBSITE:http://haringey.gov.uk/brucecastlemuseum
URL:http://haringey.gov.uk/brucecastlemuseum
CONTACT:020 8808 8772
ORGANIZER;CN="Deborah Hedgecock":https://bowesandbounds.org/profile/De
 borahHedgecock
ATTACH;FMTTYPE="image/jpeg":http://storage.ning.com/topology/rest/1.0/
 file/get/2287313749?profile=original
ATTENDEE;ROLE=REQ-PARTICIPANT;PARTSTAT=ACCEPTED;RSVP=TRUE;CN="Deborah 
 Hedgecock":https://bowesandbounds.org/profile/DeborahHedgecock
END:VEVENT
END:VCALENDAR
