BEGIN:VCALENDAR
PRODID:NingEventWidget-v1
VERSION:2.0
METHOD:PUBLISH
BEGIN:VTIMEZONE
TZID:Europe/London
X-LIC-LOCATION:Europe/London
BEGIN:DAYLIGHT
TZOFFSETFROM:+0000
TZOFFSETTO:+0100
TZNAME:BST
DTSTART:19700329T010000
RRULE:FREQ=YEARLY;BYMONTH=3;BYDAY=-1SU
END:DAYLIGHT
BEGIN:STANDARD
TZOFFSETFROM:+0100
TZOFFSETTO:+0000
TZNAME:GMT
DTSTART:19701025T020000
RRULE:FREQ=YEARLY;BYMONTH=10;BYDAY=-1SU
END:STANDARD
END:VTIMEZONE
BEGIN:VEVENT
UID:6278630:Event:126791
DTSTAMP:20260420T035432Z
SUMMARY:HALLOWEEN SPECIAL \"LITTLE SHED OF HORRORS'
DESCRIPTION:Chickenshed Theatre with Talkies Community Cinema brings 
 The Little Shed of Horrors” with fancy dress, undead music and gre
 at film \"Little Shop of Horrors\" \nOur Halloween event at Chickensh
 ed is a great way for young people to enjoy themselves on Halloween wi
 thout bothering their neighbours!  Last year's event was scarily grea
 t - with some truly unbelievable costumes! So this year we are hoping 
 to see even more guys and ghouls in fancy dress, for a monster night o
 f mind-blowing live (well, undead) music and a marvellous movie!\"\nRE
 AD MORE AND BUY TICKETS (£10)\n\nFor more information visit https://b
 owesandbounds.org/events/halloween-special-little-shed-of-horrors
DTSTART;TZID=Europe/London:20171031T184500
DTEND;TZID=Europe/London:20171031T220000
CATEGORIES:charity, halloween, party
LOCATION:Chickenshed Theatre, Southgate
WEBSITE:https://www.chickenshed.org.uk/Event/little-shed-of-horrors
URL:https://www.chickenshed.org.uk/Event/little-shed-of-horrors
CONTACT:020 8292 9222
ORGANIZER:TALKIES COMMUNITY CINEMA
ATTACH;FMTTYPE="image/jpeg":http://storage.ning.com/topology/rest/1.0/
 file/get/2287321596?profile=original
ATTENDEE;ROLE=REQ-PARTICIPANT;PARTSTAT=ACCEPTED;RSVP=TRUE;CN="David Wi
 lliamson":https://bowesandbounds.org/profile/DavidWilliamson
END:VEVENT
END:VCALENDAR
