BEGIN:VCALENDAR
PRODID:NingEventWidget-v1
VERSION:2.0
METHOD:PUBLISH
BEGIN:VTIMEZONE
TZID:Europe/London
X-LIC-LOCATION:Europe/London
BEGIN:DAYLIGHT
TZOFFSETFROM:+0000
TZOFFSETTO:+0100
TZNAME:BST
DTSTART:19700329T010000
RRULE:FREQ=YEARLY;BYMONTH=3;BYDAY=-1SU
END:DAYLIGHT
BEGIN:STANDARD
TZOFFSETFROM:+0100
TZOFFSETTO:+0000
TZNAME:GMT
DTSTART:19701025T020000
RRULE:FREQ=YEARLY;BYMONTH=10;BYDAY=-1SU
END:STANDARD
END:VTIMEZONE
BEGIN:VEVENT
UID:6278630:Event:103798
DTSTAMP:20260424T074544Z
SUMMARY:Hammersmith Historical Riverside Walk
DESCRIPTION:Meet 11.00 Bounds Green tube station. You may like to brin
 g a packed lunch, alternatively you can eat at the end. \nGet Piccadi
 lly line to Hammersmith for a leisurely two and a half mile walk along
  the historical riverside where we will see several points of interest
  including William Morris' house, several grand Georgian mansions, old
  pubs, some with ghosts and murders.  We will see St. Nicholas Church
  where the Hogarth family are buried, then a visit to Hogarth's house 
 (free admission),then through the grounds of Chiswick House, where the
 re are a café and toilet facilities. As all the pubs offer rather ex
 pensive menus, it is suggested we do the whole walk and finish at the 
 café at Chiswick House around 2pm - hence the early start.  \nLeader
  - Clive Allen. mob 078876150845\n\nFor more information visit https:/
 /bowesandbounds.org/events/hammersmith-historical-riverside-walk
DTSTART;TZID=Europe/London:20151129T110000
DTEND;TZID=Europe/London:20151129T170000
CATEGORIES:guided, walk
LOCATION:Meet At Bounds Green Station
WEBSITE:
URL:
CONTACT:078876150845
ORGANIZER;CN=EyeInTheSky:https://bowesandbounds.org/profile/EyeInTheSk
 y
ATTACH;FMTTYPE="image/jpeg":
ATTENDEE;ROLE=REQ-PARTICIPANT;PARTSTAT=ACCEPTED;RSVP=TRUE;CN=EyeInTheS
 ky:https://bowesandbounds.org/profile/EyeInTheSky
END:VEVENT
END:VCALENDAR
