BEGIN:VCALENDAR
PRODID:NingEventWidget-v1
VERSION:2.0
METHOD:PUBLISH
BEGIN:VTIMEZONE
TZID:Europe/London
X-LIC-LOCATION:Europe/London
BEGIN:DAYLIGHT
TZOFFSETFROM:+0000
TZOFFSETTO:+0100
TZNAME:BST
DTSTART:19700329T010000
RRULE:FREQ=YEARLY;BYMONTH=3;BYDAY=-1SU
END:DAYLIGHT
BEGIN:STANDARD
TZOFFSETFROM:+0100
TZOFFSETTO:+0000
TZNAME:GMT
DTSTART:19701025T020000
RRULE:FREQ=YEARLY;BYMONTH=10;BYDAY=-1SU
END:STANDARD
END:VTIMEZONE
BEGIN:VEVENT
UID:6278630:Event:68061
DTSTAMP:20260423T072251Z
SUMMARY:Haringey and Enfield Half Term events
DESCRIPTION:For the October Half Term week both Haringey Council and E
 nfield Council have produced brochures detailing activities in their r
 espective boroughs\nDownload the What's On lists here:\n\nEnfield\nHar
 ingey\n\n\nFor more information visit https://bowesandbounds.org/event
 s/haringey-and-enfield-half-term-events
DTSTART;TZID=Europe/London:20131028T000000
DTEND;TZID=Europe/London:20131031T235900
CATEGORIES:"half term"
LOCATION:Enfield Haringey
WEBSITE:
URL:
CONTACT:
ORGANIZER;CN="Richard McKeever":https://bowesandbounds.org/profile/3hw
 xkqhdde8gc
ATTACH;FMTTYPE="image/jpeg":
ATTENDEE;ROLE=REQ-PARTICIPANT;PARTSTAT=ACCEPTED;RSVP=TRUE;CN="Richard 
 McKeever":https://bowesandbounds.org/profile/3hwxkqhdde8gc
END:VEVENT
END:VCALENDAR
