BEGIN:VCALENDAR
PRODID:NingEventWidget-v1
VERSION:2.0
METHOD:PUBLISH
BEGIN:VTIMEZONE
TZID:Europe/London
X-LIC-LOCATION:Europe/London
BEGIN:DAYLIGHT
TZOFFSETFROM:+0000
TZOFFSETTO:+0100
TZNAME:BST
DTSTART:19700329T010000
RRULE:FREQ=YEARLY;BYMONTH=3;BYDAY=-1SU
END:DAYLIGHT
BEGIN:STANDARD
TZOFFSETFROM:+0100
TZOFFSETTO:+0000
TZNAME:GMT
DTSTART:19701025T020000
RRULE:FREQ=YEARLY;BYMONTH=10;BYDAY=-1SU
END:STANDARD
END:VTIMEZONE
BEGIN:VEVENT
UID:6278630:Event:43310
DTSTAMP:20260423T000245Z
SUMMARY:Haringey District Scouts and Guides Fireworks Display
DESCRIPTION:Haringey District Scout and Guide Fireworks Display\nHarin
 gey Scout park in Bounds Green on 10th Nov. The scout park is on Gordo
 n Road Bounds Green N11 2PB, a few minutes walk from Bounds Green Tube
 .\nTime 6 - 8pm,  Adults £4.00 Children £3.00.\nLocal Explorer Scou
 ts are selling tickets, but you can also buy on the door. BBQ, tuck sh
 op, refreshments, stalls.\n \n\nFor more information visit https://bo
 wesandbounds.org/events/haringey-district-scout-and-guide-summer-fair
DTSTART;TZID=Europe/London:20121110T180000
DTEND;TZID=Europe/London:20121110T200000
CATEGORIES:fireworks
LOCATION:Scout Park
WEBSITE:http://scoutpark.org.uk/scout-park/scout-park-directions.html
URL:http://scoutpark.org.uk/scout-park/scout-park-directions.html
CONTACT:
ORGANIZER;CN=Administrator:https://bowesandbounds.org/profile/Administ
 rator
ATTACH;FMTTYPE="image/jpeg":http://storage.ning.com/topology/rest/1.0/
 file/get/2287238556?profile=original
ATTENDEE;ROLE=REQ-PARTICIPANT;PARTSTAT=ACCEPTED;RSVP=TRUE;CN="Kathleen
  Duffy":https://bowesandbounds.org/profile/KathleenDuffy378
ATTENDEE;ROLE=REQ-PARTICIPANT;PARTSTAT=ACCEPTED;RSVP=TRUE;CN=Administr
 ator:https://bowesandbounds.org/profile/Administrator
END:VEVENT
END:VCALENDAR
