BEGIN:VCALENDAR
PRODID:NingEventWidget-v1
VERSION:2.0
METHOD:PUBLISH
BEGIN:VTIMEZONE
TZID:Europe/London
X-LIC-LOCATION:Europe/London
BEGIN:DAYLIGHT
TZOFFSETFROM:+0000
TZOFFSETTO:+0100
TZNAME:BST
DTSTART:19700329T010000
RRULE:FREQ=YEARLY;BYMONTH=3;BYDAY=-1SU
END:DAYLIGHT
BEGIN:STANDARD
TZOFFSETFROM:+0100
TZOFFSETTO:+0000
TZNAME:GMT
DTSTART:19701025T020000
RRULE:FREQ=YEARLY;BYMONTH=10;BYDAY=-1SU
END:STANDARD
END:VTIMEZONE
BEGIN:VEVENT
UID:6278630:Event:132547
DTSTAMP:20260424T144251Z
SUMMARY:Haringey Literature Live Autumn Writing Programme 2018
DESCRIPTION:We have a range of stunning courses in our new Autumn prog
 ramme in novel writing, poetry writing, Sunday masterclasses - as well
  as our popular Saturday kids writing club.\nFINDING THE POEM with Pau
 l Lyalls\n\n\n\nWednesdays 10.30am to 1pm; dates 31 Oct, 7, 14, 21, 28
  Nov, 5 Dec; cost £95; venue Writing Room. \nAll are welcome on this
  fun and liberating workshop-based course, whether you are new to writ
 ing, or wish to expand your collection of poems, or are a prose writer
  wanting to explore your writing capabilities.Exercises in class, focu
 sed on tiny details, every day experiences, or life-changing events, w
 ill enable you to encapsulate aspects of your internal and external wo
 rlds. This is a friendly and constructive course which previous studen
 ts have described as ‘inspirational', comparing Paul to a 'magician'
 !\nNOVEL WRITING: BUILDING YOUR SKILLS with Sonia Lambert\n\n\n\nThurs
 days 10.30am to 1pm; dates 1, 8, 15, 22, 29 November, 6 December; cost
  £95; venue Writing Room. \nEach week we will be looking at issues s
 uch as inspiration, character, view point, setting, plot, and editing.
  We will try out short writing exercises in class each week and discus
 s advice on technique.  \"It's been a real learning process ... to co
 me away feeling you are a better writer than when you started... this 
 has definitely happened for me.\" Dawn\n\n Extremely Short Flash Ficti
 on with David Gaffney\nSunday 28th October 11.45am-5pm, £50, Writing 
 Room. \nCan you tell a story in less than 500 words? David Gaffney th
 inks you can, and in this workshop you will learn how to reduce ideas 
 to an ultra-short format – how to condense while keeping your story 
 effective, powerful and easy to understand, how to manage character, d
 escription, point of view and dialogue, and how to reduce a thousand w
 ords to 150 without losing a thing. Full of practical, fun exercises, 
 this session will leave you wondering why anything has to be longer th
 an a side of A4.\n\nDECLAN RYAN, POEMS WHICH SPEAK Sunday 25th Novembe
 r 10.45am-4pm, £50, Writing Room.\n“I’d say it now if I thought y
 ou were listening” – Hugo Williams\nIn writing a poem, it’s poss
 ible to speak to someone in a way you can’t in everyday language, ev
 en someone who is no longer around to talk to at all. We’ll look at 
 some poets who’ve written in an attempt to speak to the dead, or get
  through to someone who was otherwise unreachable, and start to write 
 poems that say it now, as if they were listening.\nEmail Kate@collage-
 arts.org to book if you have any questions. \n\n\nFor more informatio
 n visit https://bowesandbounds.org/events/haringey-literature-live-aut
 um-writing-programme-2018
DTSTART;TZID=Europe/London:20180922T100000
DTEND;TZID=Europe/London:20181205T130000
CATEGORIES:creative, writing, courses
LOCATION:Wood Green, N22
WEBSITE:http://haringeyliteraturelive.com
URL:http://haringeyliteraturelive.com
CONTACT:
ORGANIZER;CN="Giovanna Iozzi":https://bowesandbounds.org/profile/Giova
 nnaIozzi
ATTACH;FMTTYPE="image/jpeg":
ATTENDEE;ROLE=REQ-PARTICIPANT;PARTSTAT=ACCEPTED;RSVP=TRUE;CN="Giovanna
  Iozzi":https://bowesandbounds.org/profile/GiovannaIozzi
END:VEVENT
END:VCALENDAR
