BEGIN:VCALENDAR
PRODID:NingEventWidget-v1
VERSION:2.0
METHOD:PUBLISH
BEGIN:VTIMEZONE
TZID:Europe/London
X-LIC-LOCATION:Europe/London
BEGIN:DAYLIGHT
TZOFFSETFROM:+0000
TZOFFSETTO:+0100
TZNAME:BST
DTSTART:19700329T010000
RRULE:FREQ=YEARLY;BYMONTH=3;BYDAY=-1SU
END:DAYLIGHT
BEGIN:STANDARD
TZOFFSETFROM:+0100
TZOFFSETTO:+0000
TZNAME:GMT
DTSTART:19701025T020000
RRULE:FREQ=YEARLY;BYMONTH=10;BYDAY=-1SU
END:STANDARD
END:VTIMEZONE
BEGIN:VEVENT
UID:6278630:Event:140327
DTSTAMP:20260419T201737Z
SUMMARY:Haringey Local History Fair 2020
DESCRIPTION:Time to discover more about Haringeyâ€™s wonderful history
  and community heritage at the annual Haringey Local History Fair at B
 ruce Castle Museum and Haringey Archive.\nA chance to get involved, ne
 twork and browse stalls from different local organisations from around
  the borough, as well as an all-day talks programme, showcasing the ar
 ea's wonderful heritage. You can visit the Searchroom, see films and s
 pecial displays from the archive and museum collections and talk to ou
 r staff to find out how to use the Archive Service and undertake resea
 rch.\nAll-day Talks Programme\n\n10.50am: Alexandra Palace Theatre - D
 id it Roar in the 1920s?byÂ Nigel Willmott and Patricia BreareyÂ (co-a
 uthors of theÂ Drama at the Palace books (external link)Â will talk ab
 out this historic theatre.\n11.25am: Exiled: Sixty Years Since the Arr
 ival of Oliver TambobyÂ Nico Blackstock, of University of SouthamptonÂ
  \n12 noon: The NHS at 70: The Story Of Our Livesby Â Peter Mitchell, 
 one of the project's co-ordinators of the NHS at 70 projectÂ \n12.35pm
 : The 1840 Revolution: Rowland Hillâ€™s Uniform Penny Post Delivered 1
 80 Years AgobyÂ Jack Zhang, postal historian and authorÂ of 'The Origi
 n of the Penny Black', ('è§£å¯†é»‘ä¾¿å£«') - the first book to be publ
 ished in Chinese about the Penny Black.\n1-2pm: Lunch breakDuring the 
 break, enjoy our collection of short films to include:Â Looking Back 8
 0 Years: Food Flash - The Ration Books are Coming; the recently-digiti
 sedÂ HRHâ€™s Own Hospital!Â (1932) - the new wing at the Prince of Wal
 es Hospital in Tottenham; andÂ The Farm: Narratives of HomeÂ a short d
 ocumentary film made byÂ Wendy Charlton (external link), a local socia
 l practice artist, with a Broadwater Farm estate resident.\n2pm How th
 e Poll Tax was Defeated in Haringey and Across the UK 30 Years AgobyÂ 
 Dave Morris and other former activists from Haringey Anti-Poll Tax Uni
 on.\n2.35pm Two Hundred Years in the Baking: The Freemans - North Lond
 on BakersbyÂ David Winskill, of Hornsey Historical Society, as he give
 s us a taste of this local familyâ€™s baking heritage.\n3-3.30pm: tea 
 break\n3.35pm: Having a Nose for It: Political Lampooning in the â€˜60
 sbyÂ Councillor Sheila Peacock and Deborah Hedgecock (Curator)Â look b
 ack on the humorous artwork of â€˜Nosey Parkerâ€™ - a set of six polit
 ical cartoons commissioned locally from the 1960s.Â \n4.05pm: Cheers! 
 Serving Pints for 170 years: The Antwerp Arms, Tottenhamby curatorÂ De
 borah HedgecockÂ as she charts the history of this pub still serving t
 he community 170 years on.\n\nNB Talks sometimes subject to change.\nT
 heÂ Tudor TowerÂ will be open too, with artwork by resident art groupÂ
  Art2View.\nThe CafÃ© in the Old Kitchen will be selling teas, coffees
 , sandwiches and cakes all day.\nFor full listing see: www.haringey.go
 v.uk/brucecastlemuseum\n\n\nFor more information visit https://bowesan
 dbounds.org/events/haringey-local-history-fair-2020
DTSTART;TZID=Europe/London:20200215T103000
DTEND;TZID=Europe/London:20200215T163000
CATEGORIES:local, history, fair, talks, stalls, community, heritage
LOCATION:Bruce Castle Museum
WEBSITE:http://www.haringey.gov.uk/brucecastlemuseum
URL:http://www.haringey.gov.uk/brucecastlemuseum
CONTACT:020 8808 8772
ORGANIZER;CN="Deborah Hedgecock":https://bowesandbounds.org/profile/De
 borahHedgecock
ATTACH;FMTTYPE="image/jpeg":https://storage.ning.com/topology/rest/1.0
 /file/get/3860138553?profile=original
ATTENDEE;ROLE=REQ-PARTICIPANT;PARTSTAT=ACCEPTED;RSVP=TRUE;CN="Deborah 
 Hedgecock":https://bowesandbounds.org/profile/DeborahHedgecock
END:VEVENT
END:VCALENDAR
