BEGIN:VCALENDAR
PRODID:NingEventWidget-v1
VERSION:2.0
METHOD:PUBLISH
BEGIN:VTIMEZONE
TZID:Europe/London
X-LIC-LOCATION:Europe/London
BEGIN:DAYLIGHT
TZOFFSETFROM:+0000
TZOFFSETTO:+0100
TZNAME:BST
DTSTART:19700329T010000
RRULE:FREQ=YEARLY;BYMONTH=3;BYDAY=-1SU
END:DAYLIGHT
BEGIN:STANDARD
TZOFFSETFROM:+0100
TZOFFSETTO:+0000
TZNAME:GMT
DTSTART:19701025T020000
RRULE:FREQ=YEARLY;BYMONTH=10;BYDAY=-1SU
END:STANDARD
END:VTIMEZONE
BEGIN:VEVENT
UID:6278630:Event:72244
DTSTAMP:20260425T120129Z
SUMMARY:Haringey Local History Fair
DESCRIPTION:Find out more about Haringey’s history.\nOr simply pop i
 n for an interesting chat with someone in the café.\n\nStalls in the 
 main galleries representing local history societies and interest group
 s\nExperts on hand to offer advice and guidance\nFascinating and usefu
 l publications for sale\nA programme of interesting short talks in the
  Lecture Hall\n\nAll welcome. Supported by the Friends of Bruce Castle
 \nMore information\n\n \n\n\nFor more information visit https://bowes
 andbounds.org/events/haringey-local-history-fair-3
DTSTART;TZID=Europe/London:20140222T110000
DTEND;TZID=Europe/London:20140222T163000
CATEGORIES:"local history"
LOCATION:\"Bruce Castle Museum\"
WEBSITE:http://www.haringey.gov.uk/index/community_and_leisure/time_ou
 t_in_haringey/visiting_haringey/places_to_visit/brucecastlemuseum.htm#
 howtogettorucecastle
URL:http://www.haringey.gov.uk/index/community_and_leisure/time_out_in
 _haringey/visiting_haringey/places_to_visit/brucecastlemuseum.htm#howt
 ogettorucecastle
CONTACT:
ORGANIZER:Administrator
ATTACH;FMTTYPE="image/jpeg":http://storage.ning.com/topology/rest/1.0/
 file/get/2287223453?profile=original
ATTENDEE;ROLE=REQ-PARTICIPANT;PARTSTAT=ACCEPTED;RSVP=TRUE;CN="sue cole
 s":https://bowesandbounds.org/profile/suecoles
ATTENDEE;ROLE=REQ-PARTICIPANT;PARTSTAT=ACCEPTED;RSVP=TRUE;CN="Richard 
 McKeever":https://bowesandbounds.org/profile/3hwxkqhdde8gc
END:VEVENT
END:VCALENDAR
