BEGIN:VCALENDAR
PRODID:NingEventWidget-v1
VERSION:2.0
METHOD:PUBLISH
BEGIN:VTIMEZONE
TZID:Europe/London
X-LIC-LOCATION:Europe/London
BEGIN:DAYLIGHT
TZOFFSETFROM:+0000
TZOFFSETTO:+0100
TZNAME:BST
DTSTART:19700329T010000
RRULE:FREQ=YEARLY;BYMONTH=3;BYDAY=-1SU
END:DAYLIGHT
BEGIN:STANDARD
TZOFFSETFROM:+0100
TZOFFSETTO:+0000
TZNAME:GMT
DTSTART:19701025T020000
RRULE:FREQ=YEARLY;BYMONTH=10;BYDAY=-1SU
END:STANDARD
END:VTIMEZONE
BEGIN:VEVENT
UID:6278630:Event:39765
DTSTAMP:20260424T054738Z
SUMMARY:Haringey’s Hidden Streams Revealed
DESCRIPTION:Albert Pinching and David Dell are giving an illustrated t
 alk on their Hornsey Historical Society publication “Haringey’s H
 idden Streams Revealed” at Alexandra Park Library, Alexandra Park Ro
 ad, London, N22 7UJ (Tel: 020 8489 8770)\nThis is a free event –just
  turn up on Friday 11 May at 12.30pm.\n\nFor more information visit ht
 tps://bowesandbounds.org/events/haringey-s-hidden-streams-revealed
DTSTART;TZID=Europe/London:20120511T123000
DTEND;TZID=Europe/London:20120511T140000
CATEGORIES:author, talk
LOCATION:Alexandra Park Library
WEBSITE:http://maps.google.com/maps?q=Alexandra+Park+Library,+Alexandr
 a+Park+Road,+London+N22+7UJ,+United+Kingdom&hl=en&sll=51.598976,-0.136
 118&sspn=0.007984,0.01472&oq=Alexandra+park+library,+London,+N22+7UJ&h
 q=Alexandra+Park+Library,&hnear=Alexandra+Park+Rd,+Lo
URL:http://maps.google.com/maps?q=Alexandra+Park+Library,+Alexandra+Pa
 rk+Road,+London+N22+7UJ,+United+Kingdom&hl=en&sll=51.598976,-0.136118&
 sspn=0.007984,0.01472&oq=Alexandra+park+library,+London,+N22+7UJ&hq=Al
 exandra+Park+Library,&hnear=Alexandra+Park+Rd,+Lo
CONTACT:
ORGANIZER;CN=Administrator:https://bowesandbounds.org/profile/Administ
 rator
ATTACH;FMTTYPE="image/jpeg":http://storage.ning.com/topology/rest/1.0/
 file/get/2287233670?profile=original
ATTENDEE;ROLE=REQ-PARTICIPANT;PARTSTAT=ACCEPTED;RSVP=TRUE;CN=Administr
 ator:https://bowesandbounds.org/profile/Administrator
END:VEVENT
END:VCALENDAR
