BEGIN:VCALENDAR
PRODID:NingEventWidget-v1
VERSION:2.0
METHOD:PUBLISH
BEGIN:VTIMEZONE
TZID:Europe/London
X-LIC-LOCATION:Europe/London
BEGIN:DAYLIGHT
TZOFFSETFROM:+0000
TZOFFSETTO:+0100
TZNAME:BST
DTSTART:19700329T010000
RRULE:FREQ=YEARLY;BYMONTH=3;BYDAY=-1SU
END:DAYLIGHT
BEGIN:STANDARD
TZOFFSETFROM:+0100
TZOFFSETTO:+0000
TZNAME:GMT
DTSTART:19701025T020000
RRULE:FREQ=YEARLY;BYMONTH=10;BYDAY=-1SU
END:STANDARD
END:VTIMEZONE
BEGIN:VEVENT
UID:6278630:Event:57026
DTSTAMP:20260422T201001Z
SUMMARY:Haringey Timebank
DESCRIPTION:Give or Take event at Tottenham Chances\nhttp://www.haring
 eytimebank.org.uk/give-or-take-day ‎\n\n\nFor more information visit
  https://bowesandbounds.org/events/haringey-timebank-1
DTSTART;TZID=Europe/London:20130413T120000
DTEND;TZID=Europe/London:20130413T150000
CATEGORIES:community, give, and, take
LOCATION:Tottenham Chances
WEBSITE:
URL:
CONTACT:077 266 95812
ORGANIZER;CN="sam leggatt":https://bowesandbounds.org/profile/samlegga
 tt
ATTACH;FMTTYPE="image/jpeg":
ATTENDEE;ROLE=REQ-PARTICIPANT;PARTSTAT=ACCEPTED;RSVP=TRUE;CN="sam legg
 att":https://bowesandbounds.org/profile/samleggatt
END:VEVENT
END:VCALENDAR
