BEGIN:VCALENDAR
PRODID:NingEventWidget-v1
VERSION:2.0
METHOD:PUBLISH
BEGIN:VTIMEZONE
TZID:Europe/London
X-LIC-LOCATION:Europe/London
BEGIN:DAYLIGHT
TZOFFSETFROM:+0000
TZOFFSETTO:+0100
TZNAME:BST
DTSTART:19700329T010000
RRULE:FREQ=YEARLY;BYMONTH=3;BYDAY=-1SU
END:DAYLIGHT
BEGIN:STANDARD
TZOFFSETFROM:+0100
TZOFFSETTO:+0000
TZNAME:GMT
DTSTART:19701025T020000
RRULE:FREQ=YEARLY;BYMONTH=10;BYDAY=-1SU
END:STANDARD
END:VTIMEZONE
BEGIN:VEVENT
UID:6278630:Event:67132
DTSTAMP:20260419T142912Z
SUMMARY:Haringey Tree Wardens Street Tree Walk - Northumberland Park
DESCRIPTION:We hold tree-related events every two months in different 
 parts of Haringey.This is a free opportunity to discover more about lo
 cal street trees. We walk along a suitable street, exchanging knowledg
 e. Some of us do maintenance if needed. Most come to look and learn.Fo
 r the October Walk, we're starting at Park Lane and working our way do
 wn a few streets to Lansdowne Road and back. The walk lasts around an 
 hour and you can join/eave at any time - all welcome.Please meet us at
  10am on Saturday 12th October by the W3 bus stop at the end of Park L
 ane/corner of Willoughby Road - just across the road from Northumberla
 nd Park stationmap here: http://goo.gl/maps/eT3bK - kindly 'join' th
 e event (there's a button at the bottom right of the photo) to let us 
 know you're going.Please help us identify the trees we visit and/or le
 arn how to do it yourself. There's a list of apps for smartphones that
  can help with this (if you have a reasonably modern one) on our websi
 te http://haringeytreewardens.org.uk/treeinfoComplete beginners are w
 elcome - several of us know very little, some of us know quite a bit a
 nd we're all keen to learn.If you have any books or guides that might 
 help give us a key to tree identification, please bring what you can e
 asily carry.Photographers are welcome - we always looking to add to ou
 r list of identified trees and hope you'll contribute a few of the pic
 tures you take if you wish.The Tree Walk is intended to last around an
  hour. If it rains too much we will head for the nearest cafe and use 
 leaves and small branches (and what we can see out of the window) to f
 ocus on what is around us.Please note that you don't have to be a tree
  warden to join in - many people simply turn up every so often to look
  and learn and sometimes to contribute.Please follow us on twitter ht
 tps://www.twitter.com/TreeWardensCheck out our website - maybe sign up
  to our newsletter?http://HaringeyTreeWardens.org.uk/\n\nFor more info
 rmation visit https://bowesandbounds.org/events/haringey-tree-wardens-
 street-tree-walk-northumberland-park
DTSTART;TZID=Europe/London:20131012T220000
DTEND;TZID=Europe/London:20131012T230000
CATEGORIES:walk, tree, street, green, environment, ash, oak, birch, ch
 erry, hazel, plane
LOCATION:meet by the W7 bus stop, Willoughby Road, Northumberland Park
 , N15
WEBSITE:http://www.HaringeyTreeWardens.org.uk
URL:http://www.HaringeyTreeWardens.org.uk
CONTACT:
ORGANIZER;CN="Tree Warden":https://bowesandbounds.org/profile/TreeWard
 en
ATTACH;FMTTYPE="image/jpeg":http://storage.ning.com/topology/rest/1.0/
 file/get/2287255915?profile=original
ATTENDEE;ROLE=REQ-PARTICIPANT;PARTSTAT=ACCEPTED;RSVP=TRUE;CN="Tree War
 den":https://bowesandbounds.org/profile/TreeWarden
END:VEVENT
END:VCALENDAR
