BEGIN:VCALENDAR
PRODID:NingEventWidget-v1
VERSION:2.0
METHOD:PUBLISH
BEGIN:VTIMEZONE
TZID:Europe/London
X-LIC-LOCATION:Europe/London
BEGIN:DAYLIGHT
TZOFFSETFROM:+0000
TZOFFSETTO:+0100
TZNAME:BST
DTSTART:19700329T010000
RRULE:FREQ=YEARLY;BYMONTH=3;BYDAY=-1SU
END:DAYLIGHT
BEGIN:STANDARD
TZOFFSETFROM:+0100
TZOFFSETTO:+0000
TZNAME:GMT
DTSTART:19701025T020000
RRULE:FREQ=YEARLY;BYMONTH=10;BYDAY=-1SU
END:STANDARD
END:VTIMEZONE
BEGIN:VEVENT
UID:6278630:Event:131040
DTSTAMP:20260425T011118Z
SUMMARY:Haringey Vegan Fayre
DESCRIPTION:Whether you want to indulge in a healing massage, have som
 e delicious cruelty free food or take home a unique gift for yourself 
 or loved ones, this event is for you.\nPink and Tata! in collaboration
  with Karamel N22  are pleased to offer you a whole host of different
  vegan stalls.\n– Marina Holistica Seated Acupressure, Indian Head M
 assage, Aromatherapy products\n– Kimchi Republic Ltd Korean Vegan Fo
 od mostly sources from UK and other countries in Europe. Click here to
  visit their page\n– Supa-nosh & spicexologi Vegan spices various gl
 obal flavours , Panjeeri ‘on the go snacks for ; him a sport and fit
 ness targeted snack, her; a woman general wellbeing and balancing horm
 onal support snack , new mummy tub . Ayurveda ingredients to support b
 ody , home made fresh crunchy Punjab pickles Click here to visit their
  page\n– Heat Meets Sweet Jamaican natural hot pepper sauces made wi
 th fresh fruit Click here to visit their page\n– Simple Animal Desig
 n screen print original designs on ethically traded t-shirts. The whol
 e process is vegan and eco-friendly and my designs are animal/vegan-ce
 ntred. Click here to visit their page\n– Raw Medicine Ltd c/o The Ca
 shew Family Artisan vegan cheese made out of cashew nuts and fermented
  using traditional techniques Click here to visit their page\n– Luck
 yLek Vegan spreads Click here to visit their page\n– La Buenaventur
 a, Homemade traditional Spanish cuisine 100% plant based Click here t
 o visit their page\n\n\n\n\n\nFor more information visit https://bowes
 andbounds.org/events/haringey-vegan-fayre
DTSTART;TZID=Europe/London:20180526T100000
DTEND;TZID=Europe/London:20180526T180000
CATEGORIES:fundraiser, "haringey vegan fayre", vegan, family-friendly,
  kids, family, music, healing, artisan, local
LOCATION:Karamel London N22
WEBSITE:http://www.karamel.london
URL:http://www.karamel.london
CONTACT:020 8829 8989
ORGANIZER;CN="Alan Drummer":https://bowesandbounds.org/profile/AlanDru
 mmer
ATTACH;FMTTYPE="image/jpeg":http://storage.ning.com/topology/rest/1.0/
 file/get/2287330512?profile=original
ATTENDEE;ROLE=REQ-PARTICIPANT;PARTSTAT=ACCEPTED;RSVP=TRUE;CN="Alan Dru
 mmer":https://bowesandbounds.org/profile/AlanDrummer
END:VEVENT
END:VCALENDAR
