BEGIN:VCALENDAR
PRODID:NingEventWidget-v1
VERSION:2.0
METHOD:PUBLISH
BEGIN:VTIMEZONE
TZID:Europe/London
X-LIC-LOCATION:Europe/London
BEGIN:DAYLIGHT
TZOFFSETFROM:+0000
TZOFFSETTO:+0100
TZNAME:BST
DTSTART:19700329T010000
RRULE:FREQ=YEARLY;BYMONTH=3;BYDAY=-1SU
END:DAYLIGHT
BEGIN:STANDARD
TZOFFSETFROM:+0100
TZOFFSETTO:+0000
TZNAME:GMT
DTSTART:19701025T020000
RRULE:FREQ=YEARLY;BYMONTH=10;BYDAY=-1SU
END:STANDARD
END:VTIMEZONE
BEGIN:VEVENT
UID:6278630:Event:4714
DTSTAMP:20260426T042821Z
SUMMARY:Harringey Borough Traffic and Parking: infomal discussion meet
 ing
DESCRIPTION:A number of the discussions on this site have centred on t
 raffic and parking issues.  These issues are equally of concern to Re
 sidents Associations and other online forums across the Borough. So le
 t's get together and have a chat with our neighbours from Harringay an
 d Hornsey to see what we could learn from each other.\nCome along to t
 he Starting Gate Pub opposite Alexandra Palace Station on March 30th a
 t 8:00pm for an informal chat about traffic and meet others concerned 
 about the same issues.\nPlease click on the RSVP button (just over the
 re on the right) so we know who to expect.\n \n \n\nFor more informa
 tion visit https://bowesandbounds.org/events/harringey-borough-traffic
 -and
DTSTART;TZID=Europe/London:20110330T200000
DTEND;TZID=Europe/London:20110330T220000
CATEGORIES:meeting
LOCATION:\"Alexandra Palace\"
WEBSITE:http://www.bing.com/maps/Default.aspx?encType=1&v=2&ss=ypid.YN
 1067x220758629&style=r&mkt=en-gb&FORM=LLDP
URL:http://www.bing.com/maps/Default.aspx?encType=1&v=2&ss=ypid.YN1067
 x220758629&style=r&mkt=en-gb&FORM=LLDP
CONTACT:
ORGANIZER;CN="Richard McKeever":https://bowesandbounds.org/profile/3hw
 xkqhdde8gc
ATTACH;FMTTYPE="image/jpeg":http://storage.ning.com/topology/rest/1.0/
 file/get/2160589509?profile=original
ATTENDEE;ROLE=REQ-PARTICIPANT;PARTSTAT=ACCEPTED;RSVP=TRUE;CN="cllr. ju
 liet solomon":https://bowesandbounds.org/profile/cllrjulietsolomon
ATTENDEE;ROLE=REQ-PARTICIPANT;PARTSTAT=ACCEPTED;RSVP=TRUE;CN="Hugh fro
 m Harringay Online":https://bowesandbounds.org/profile/HughFlouch
ATTENDEE;ROLE=REQ-PARTICIPANT;PARTSTAT=ACCEPTED;RSVP=TRUE;CN="Richard 
 McKeever":https://bowesandbounds.org/profile/3hwxkqhdde8gc
ATTENDEE;ROLE=REQ-PARTICIPANT;PARTSTAT=ACCEPTED;RSVP=TRUE;CN="Laura Da
 venport":https://bowesandbounds.org/profile/LauraDavenport
ATTENDEE;ROLE=REQ-PARTICIPANT;PARTSTAT=ACCEPTED;RSVP=TRUE;CN="Mat Rich
 es":https://bowesandbounds.org/profile/MatRiches
END:VEVENT
END:VCALENDAR
