BEGIN:VCALENDAR
PRODID:NingEventWidget-v1
VERSION:2.0
METHOD:PUBLISH
BEGIN:VTIMEZONE
TZID:Europe/London
X-LIC-LOCATION:Europe/London
BEGIN:DAYLIGHT
TZOFFSETFROM:+0000
TZOFFSETTO:+0100
TZNAME:BST
DTSTART:19700329T010000
RRULE:FREQ=YEARLY;BYMONTH=3;BYDAY=-1SU
END:DAYLIGHT
BEGIN:STANDARD
TZOFFSETFROM:+0100
TZOFFSETTO:+0000
TZNAME:GMT
DTSTART:19701025T020000
RRULE:FREQ=YEARLY;BYMONTH=10;BYDAY=-1SU
END:STANDARD
END:VTIMEZONE
BEGIN:VEVENT
UID:6278630:Event:65540
DTSTAMP:20260425T165535Z
SUMMARY:Harringey Families BABY & CHILDREN Nearly new sale
DESCRIPTION:Good quality second hand baby & children clothes, Toys, Bo
 oks & Â Baby equipment.\nCome along & bag a bargain!\nAdmission 50p *Â
   Non-members welcome *Â Â Â  Refreshments available\nTo book a table 
 email nearly.new@haringeyfamilies.co.uk\n\nFor more information visit 
 https://bowesandbounds.org/events/harringey-families-baby-children-nea
 rly-new-sale
DTSTART;TZID=Europe/London:20130914T101500
DTEND;TZID=Europe/London:20130914T114500
CATEGORIES:second, hand, sale
LOCATION:St.George's Hall
WEBSITE:http://www.haringeyfamilies.co.uk
URL:http://www.haringeyfamilies.co.uk
CONTACT:
ORGANIZER;CN="Amanda Terroni":https://bowesandbounds.org/profile/Amand
 aTerroni
ATTACH;FMTTYPE="image/jpeg":
ATTENDEE;ROLE=REQ-PARTICIPANT;PARTSTAT=ACCEPTED;RSVP=TRUE;CN="Amanda T
 erroni":https://bowesandbounds.org/profile/AmandaTerroni
END:VEVENT
END:VCALENDAR
