BEGIN:VCALENDAR
PRODID:NingEventWidget-v1
VERSION:2.0
METHOD:PUBLISH
BEGIN:VTIMEZONE
TZID:Europe/London
X-LIC-LOCATION:Europe/London
BEGIN:DAYLIGHT
TZOFFSETFROM:+0000
TZOFFSETTO:+0100
TZNAME:BST
DTSTART:19700329T010000
RRULE:FREQ=YEARLY;BYMONTH=3;BYDAY=-1SU
END:DAYLIGHT
BEGIN:STANDARD
TZOFFSETFROM:+0100
TZOFFSETTO:+0000
TZNAME:GMT
DTSTART:19701025T020000
RRULE:FREQ=YEARLY;BYMONTH=10;BYDAY=-1SU
END:STANDARD
END:VTIMEZONE
BEGIN:VEVENT
UID:6278630:Event:139078
DTSTAMP:20260421T132614Z
SUMMARY:Harry Bolt
DESCRIPTION:“Harry plays with soul, energy, versatility and most imp
 ortantly – heart. He has an assured future in the business.” Rodn
 ey Jones, Juilliard\n“Something of a Prodigy, a Remarkable Young Pia
 nist.” David Lewis of Straight Ahead with the 606 Club Solar Radio\
 nFresh from an extended time playing in New York, Harry will lead his 
 own talented trio who are not an “eclectic mix of trip-hop, neo soul
 , experimental, multi cultural, abstract, psyambient, underworld elect
 ronic fusion”, but three modern jazz musicians at the top of their f
 ield delivering a new approach on jazz classics, standards and modern 
 contemporary arrangements that also provide a showcase for Harry’s e
 xciting, standout compositions. Add to that the skills of an exception
 al, young rising star on Sax and you have a performance not to be miss
 ed!\nHarry plays from the heart with versatility, passion, energy with
  subtle, soulful flair. He transitions seamlessly from Classic Bop to 
 Modern, ingeniously combining the traditional with the contemporary. H
 arry often says, “If you surprise yourself, you invariably surprise 
 your audience.” With Harry Bolt, you can always Expect the Unexpecte
 d – He’s an artist who takes inspiration from the likes of Brad Me
 hldau, Bill Charlap, Aaron Parks, Michel Petrucciani, John Taylor, Pab
 lo Held, Kurt Rosenwinkel, Walt Weiskopf & Peter Bernstein.\nHarry Bol
 t (Piano), Stuart Barker (Bass), Angus Bishop (Drums), Nadim Temoori (
 Sax).\nDoors open 7pm, music from 8pm.\n\nFor more information visit h
 ttps://bowesandbounds.org/events/harry-bolt
DTSTART;TZID=Europe/London:20191205T190000
DTEND;TZID=Europe/London:20191205T234500
CATEGORIES:music
LOCATION:KaramelN22
WEBSITE:https://www.musicglue.com/karamel/events/2019-12-05-harry-bolt
 -karamel
URL:https://www.musicglue.com/karamel/events/2019-12-05-harry-bolt-kar
 amel
CONTACT:020 3146 8775
ORGANIZER;CN="Collage Arts":https://bowesandbounds.org/profile/Collage
 Arts105
ATTACH;FMTTYPE="image/jpeg":https://storage.ning.com/topology/rest/1.0
 /file/get/3719931494?profile=original
ATTENDEE;ROLE=REQ-PARTICIPANT;PARTSTAT=ACCEPTED;RSVP=TRUE;CN="Collage 
 Arts":https://bowesandbounds.org/profile/CollageArts105
END:VEVENT
END:VCALENDAR
