BEGIN:VCALENDAR
PRODID:NingEventWidget-v1
VERSION:2.0
METHOD:PUBLISH
BEGIN:VTIMEZONE
TZID:Europe/London
X-LIC-LOCATION:Europe/London
BEGIN:DAYLIGHT
TZOFFSETFROM:+0000
TZOFFSETTO:+0100
TZNAME:BST
DTSTART:19700329T010000
RRULE:FREQ=YEARLY;BYMONTH=3;BYDAY=-1SU
END:DAYLIGHT
BEGIN:STANDARD
TZOFFSETFROM:+0100
TZOFFSETTO:+0000
TZNAME:GMT
DTSTART:19701025T020000
RRULE:FREQ=YEARLY;BYMONTH=10;BYDAY=-1SU
END:STANDARD
END:VTIMEZONE
BEGIN:VEVENT
UID:6278630:Event:41359
DTSTAMP:20260424T055508Z
SUMMARY:Healthy Planet Give or Take days
DESCRIPTION:Help yourself, help others, help the environment Healthy P
 lanet's \"Stuff for Free\" initiative is a series of giant community 
 reuse events - helping redistribute good quality stuff to a new home,
  where it will be valued.What's more, you'll be helping the environmen
 t. By re-using things instead of throwing them away, you'll be helpin
 g to save landfill space, reduce fly tippingand save valuable resource
 s.This is part of Healthy Planet's mission to champion new and grassro
 ot green and healthy causes, by giving community initiatives the spac
 e and voice they need.Upcoming eventsHealthy Planet is partnering with
  North London Waste Authority to bring you aStuff for Free event in No
 rth London beginning Thursday, the 28th of June andrunning through Sun
 day, 8th July.Give Stuff dates:Please drop off any good quality unwant
 ed items on the following dates:Thurs and Friday, 28-29 June8am - 12pm
 Sat and Sun 30, June - 1 July10am - 3pmYou can bring almost anything y
 ou like including toys, electrical items,clothes, books, sports gear, 
 furniture or bric-a-brac.Please do NOT bring: food, toiletries, sharp 
 or dangerous objects.Take Stuff dates:Come along and take your pick of
  our stock the following weekend.Friday, Sat and Sun 6-8 July10am - 3p
 mWhere:Unit 1 Voltage Industrial EstateMollison AvenueEnfieldEn3 7XQGe
 tting There:By car from A40(W):From A10 - 1 mileFrom North Circular (A
 406) - 5 milesBy National Rail:17 minute walk (0.7 miles) from Waltham
  Cross StationBy bus:491, 279, 327, 217, 3176 minute walk from Bullsmo
 or Lane/Hartford Road Junction\nThis event is part of a series of Stuf
 f for Free events across North London funded by the North London Wast
 e Authority in partnership with Barnet, Camden,Enfield, Hackney, Harin
 gey, Islington and Waltham Forest Councils. \n\nFor more information 
 visit https://bowesandbounds.org/events/healthy-planet-give-or-take-da
 ys
DTSTART;TZID=Europe/London:20120628T080000
DTEND;TZID=Europe/London:20120701T150000
CATEGORIES:healthy, planet, give, or, take, days
LOCATION:Unit 1 Voltage Industrial Estate Mollison Avenue Enfield EN3 
 7XQ
WEBSITE:http://www.healthyplanet.org
URL:http://www.healthyplanet.org
CONTACT:
ORGANIZER;CN="Liz Douglas":https://bowesandbounds.org/profile/LizDougl
 as
ATTACH;FMTTYPE="image/jpeg":
ATTENDEE;ROLE=REQ-PARTICIPANT;PARTSTAT=ACCEPTED;RSVP=TRUE;CN="Liz Doug
 las":https://bowesandbounds.org/profile/LizDouglas
END:VEVENT
END:VCALENDAR
