BEGIN:VCALENDAR
PRODID:NingEventWidget-v1
VERSION:2.0
METHOD:PUBLISH
BEGIN:VTIMEZONE
TZID:Europe/London
X-LIC-LOCATION:Europe/London
BEGIN:DAYLIGHT
TZOFFSETFROM:+0000
TZOFFSETTO:+0100
TZNAME:BST
DTSTART:19700329T010000
RRULE:FREQ=YEARLY;BYMONTH=3;BYDAY=-1SU
END:DAYLIGHT
BEGIN:STANDARD
TZOFFSETFROM:+0100
TZOFFSETTO:+0000
TZNAME:GMT
DTSTART:19701025T020000
RRULE:FREQ=YEARLY;BYMONTH=10;BYDAY=-1SU
END:STANDARD
END:VTIMEZONE
BEGIN:VEVENT
UID:6278630:Event:241155
DTSTAMP:20260421T085658Z
SUMMARY:Henry Lowther’s Still Waters
DESCRIPTION:Collage presents Henry Lowther's Still Waters.\n\nLine-up:
  Henry Lowther (trumpet/flugelhorn) Pete Hurt (tenor sax) Liam Dunachi
 e (piano) Dave Green (bass) Paul Clarvis (drums)\n\nHenry Lowther says
 : \"Still Waters was born out of a long association and friendship goi
 ng back 40 years between myself and Britain's premiere bassist Dave Gr
 een. We both felt that the time had arrived to play music of our choic
 e together with some of the finest jazz musicians working in Britain t
 oday. As a result, Still Waters is now one of the most accomplished an
 d creative bands around.\n\nAlthough a classic quintet of two front li
 nes and rhythm, Still Waters plays radical and original music, ranging
  from gentle, quietly pastoral and melodic music, reflecting the band'
 s name, through to dynamic, free improvisation.\n\n\nDoors open at 7pm
 , and music starts at 8pm.\nPlease book a ticket in advance to avoid d
 isappointment.\nhttps://www.musicglue.com/karamel/\nTickets £5-£10\n
 The venue has a full fresh air ventilation system installed throughout
 .\nPresented by Collage Arts.\n\nFor more information visit https://bo
 wesandbounds.org/events/henry-lowther-s-still-waters
DTSTART;TZID=Europe/London:20220908T200000
DTEND;TZID=Europe/London:20220908T223000
CATEGORIES:jazz, music, live
LOCATION:MAAD, 4 Coburg Road, London N22 6UJ
WEBSITE:https://www.musicglue.com/karamel
URL:https://www.musicglue.com/karamel
CONTACT:
ORGANIZER;CN="Collage Artspaces":https://bowesandbounds.org/profile/Co
 llage_Arts
ATTACH;FMTTYPE="image/jpeg":https://storage.ning.com/topology/rest/1.0
 /file/get/10776425269?profile=original
ATTENDEE;ROLE=REQ-PARTICIPANT;PARTSTAT=ACCEPTED;RSVP=TRUE;CN="Collage 
 Artspaces":https://bowesandbounds.org/profile/Collage_Arts
END:VEVENT
END:VCALENDAR
