BEGIN:VCALENDAR
PRODID:NingEventWidget-v1
VERSION:2.0
METHOD:PUBLISH
BEGIN:VTIMEZONE
TZID:Europe/London
X-LIC-LOCATION:Europe/London
BEGIN:DAYLIGHT
TZOFFSETFROM:+0000
TZOFFSETTO:+0100
TZNAME:BST
DTSTART:19700329T010000
RRULE:FREQ=YEARLY;BYMONTH=3;BYDAY=-1SU
END:DAYLIGHT
BEGIN:STANDARD
TZOFFSETFROM:+0100
TZOFFSETTO:+0000
TZNAME:GMT
DTSTART:19701025T020000
RRULE:FREQ=YEARLY;BYMONTH=10;BYDAY=-1SU
END:STANDARD
END:VTIMEZONE
BEGIN:VEVENT
UID:6278630:Event:123429
DTSTAMP:20260424T235932Z
SUMMARY:History Walk in Alexandra Park
DESCRIPTION:Music and Sport\nStuart Little will lead another of his en
 tertaining history walks in the Park, this time with the theme \"Music
  and Sport\". \nMeet on the South Terrace, underneath the Rose Window
  on Wednesday, 31st May at 7 pm. The walk will last an hour.\nwww.fri
 endsofalexandrapark.org\nLink to all Events coming up in the Park\n\nF
 or more information visit https://bowesandbounds.org/events/history-wa
 lk-in-alexandra-park
DTSTART;TZID=Europe/London:20170531T190000
DTEND;TZID=Europe/London:20170531T200000
CATEGORIES:history, friends
LOCATION:Alexandra Park
WEBSITE:http://www.friendsofalexandrapark.org
URL:http://www.friendsofalexandrapark.org
CONTACT:
ORGANIZER;CN="Stephen Middleton":https://bowesandbounds.org/profile/St
 ephenMiddleton
ATTACH;FMTTYPE="image/jpeg":http://storage.ning.com/topology/rest/1.0/
 file/get/2287319100?profile=original
ATTENDEE;ROLE=REQ-PARTICIPANT;PARTSTAT=ACCEPTED;RSVP=TRUE;CN="Stephen 
 Middleton":https://bowesandbounds.org/profile/StephenMiddleton
END:VEVENT
END:VCALENDAR
