BEGIN:VCALENDAR
PRODID:NingEventWidget-v1
VERSION:2.0
METHOD:PUBLISH
BEGIN:VTIMEZONE
TZID:Europe/London
X-LIC-LOCATION:Europe/London
BEGIN:DAYLIGHT
TZOFFSETFROM:+0000
TZOFFSETTO:+0100
TZNAME:BST
DTSTART:19700329T010000
RRULE:FREQ=YEARLY;BYMONTH=3;BYDAY=-1SU
END:DAYLIGHT
BEGIN:STANDARD
TZOFFSETFROM:+0100
TZOFFSETTO:+0000
TZNAME:GMT
DTSTART:19701025T020000
RRULE:FREQ=YEARLY;BYMONTH=10;BYDAY=-1SU
END:STANDARD
END:VTIMEZONE
BEGIN:VEVENT
UID:6278630:Event:132768
DTSTAMP:20260422T223255Z
SUMMARY:Hope in a Hostile Environment: A night of Spoken Word
DESCRIPTION:This very special night will spotlight the stories of ten 
 young women who have recently attained ‘Leave to Remain’ or who ar
 e still at various stages of the asylum process. Each story will tell 
 of the individual’s struggle, the fears and sadness as well as her s
 trength and resilience, her experience of the system, the loss of fami
 ly and absence of sustained support as well as the moments of human wa
 rmth and kindness encountered. These stories will be the product of se
 veral workshops involving the women carried out in collaboration with 
 the Helen Bamber Foundation. Each will then be edited and polished by 
 local author, broadcaster and campaigner, Michael Rosen. These will th
 en be shared with two groups of local people who will, through another
  series of workshops, develop and transform them into spoken word rend
 itions and perform them on behalf of and in honour of the women. This 
 event forms part of a broader project, which provides the women with t
 he opportunity of expressing their hopes and dreams by photographing i
 mages of a world they seek to be part of. These images accompanied by 
 the written word will be part of a photography exhibition also entitle
 d ‘Hope in a Hostile Environment’.Tickets will be on sale in the c
 oming weeks - to reserve in advance and guaranty your place please con
 tact us: pramdepot@mail.com\n\nFor more information visit https://bowe
 sandbounds.org/events/hope-in-a-hostile-environment-a-night-of-spoken-
 word
DTSTART;TZID=Europe/London:20181027T190000
DTEND;TZID=Europe/London:20181027T230000
CATEGORIES:spoken, words, causes, poetry, immigration, policy, karamel
LOCATION:Karamel, Wood Green
WEBSITE:https://www.facebook.com/events/2116898808584355/
URL:https://www.facebook.com/events/2116898808584355/
CONTACT:https://spotlightonasylum.com/
ORGANIZER;CN="Events at Karamel":https://bowesandbounds.org/profile/Ph
 ilSherman
ATTACH;FMTTYPE="image/jpeg":http://storage.ning.com/topology/rest/1.0/
 file/get/2287330482?profile=original
ATTENDEE;ROLE=REQ-PARTICIPANT;PARTSTAT=ACCEPTED;RSVP=TRUE;CN="Events a
 t Karamel":https://bowesandbounds.org/profile/PhilSherman
END:VEVENT
END:VCALENDAR
