BEGIN:VCALENDAR
PRODID:NingEventWidget-v1
VERSION:2.0
METHOD:PUBLISH
BEGIN:VTIMEZONE
TZID:Europe/London
X-LIC-LOCATION:Europe/London
BEGIN:DAYLIGHT
TZOFFSETFROM:+0000
TZOFFSETTO:+0100
TZNAME:BST
DTSTART:19700329T010000
RRULE:FREQ=YEARLY;BYMONTH=3;BYDAY=-1SU
END:DAYLIGHT
BEGIN:STANDARD
TZOFFSETFROM:+0100
TZOFFSETTO:+0000
TZNAME:GMT
DTSTART:19701025T020000
RRULE:FREQ=YEARLY;BYMONTH=10;BYDAY=-1SU
END:STANDARD
END:VTIMEZONE
BEGIN:VEVENT
UID:6278630:Event:38015
DTSTAMP:20260421T094821Z
SUMMARY:Hornsey Church Tower Open Day
DESCRIPTION:There has been a church and a burial ground on the same si
 te in Hornsey probably since Saxon times. The mediaeval church was dem
 olished in 1831 (apart from the tower) and replaced by another which w
 as itself demolished in 1927. On the site of the present St Mary's Inf
 ants' School, a third, larger church was completed in 1889, but soon s
 uffered structural problems due to subsidence: this was demolished as 
 recently as 1969. The tower is all that remains of these structures. I
 t was heightened in 1832, probably using some of the stone from the de
 molished mediaeval nave. The lower portion of the tower bears much evi
 dence of its mediaeval origins. The veiw from the top is amazing why n
 ot take the chance to visit this remarkable monument and support the f
 riends group who look after it.\n\nFor more information visit https://
 bowesandbounds.org/events/hornsey-church-tower-open-day
DTSTART;TZID=Europe/London:20120331T140000
DTEND;TZID=Europe/London:20120331T170000
CATEGORIES:"local history", architecture
LOCATION:Hornsey
WEBSITE:http://www.communigate.co.uk/london/fohct/
URL:http://www.communigate.co.uk/london/fohct/
CONTACT:
ORGANIZER;CN="Richard McKeever":https://bowesandbounds.org/profile/3hw
 xkqhdde8gc
ATTACH;FMTTYPE="image/jpeg":http://storage.ning.com/topology/rest/1.0/
 file/get/2287231635?profile=original
ATTENDEE;ROLE=REQ-PARTICIPANT;PARTSTAT=ACCEPTED;RSVP=TRUE;CN="Richard 
 McKeever":https://bowesandbounds.org/profile/3hwxkqhdde8gc
END:VEVENT
END:VCALENDAR
