BEGIN:VCALENDAR
PRODID:NingEventWidget-v1
VERSION:2.0
METHOD:PUBLISH
BEGIN:VTIMEZONE
TZID:Europe/London
X-LIC-LOCATION:Europe/London
BEGIN:DAYLIGHT
TZOFFSETFROM:+0000
TZOFFSETTO:+0100
TZNAME:BST
DTSTART:19700329T010000
RRULE:FREQ=YEARLY;BYMONTH=3;BYDAY=-1SU
END:DAYLIGHT
BEGIN:STANDARD
TZOFFSETFROM:+0100
TZOFFSETTO:+0000
TZNAME:GMT
DTSTART:19701025T020000
RRULE:FREQ=YEARLY;BYMONTH=10;BYDAY=-1SU
END:STANDARD
END:VTIMEZONE
BEGIN:VEVENT
UID:6278630:Event:138092
DTSTAMP:20260423T160824Z
SUMMARY:HORNSEY HISTORICAL SOCIETY : A History Walk in Muswell Hill
DESCRIPTION:\nThe Hornsey Historical Society (HHS) is taking part agai
 n this year in London Open House Weekend.\nOur Chair, Keith Fawkes, i
 s leading an architectural and historical walk around Muswell Hill at
  2pm on Saturday 21st September.\nThe walk will start from Muswell Hi
 ll Library, Queens Avenue N10, where Keith will give an introductory 
 talk.\nLasting about two hours, the walk is free of charge and will fi
 nish at North Bank, Pages Lane, where tea will be available.\nThe ful
 l, London-wide listings of buildings open to the public, and associate
 d events, can be found on the Open House London website.\n\nFor more 
 information visit https://bowesandbounds.org/events/hornsey-historical
 -society-a-history-walk-in-muswell-hill
DTSTART;TZID=Europe/London:20190921T140000
DTEND;TZID=Europe/London:20190921T160000
CATEGORIES:"history walk"
LOCATION:Muswell Hill Library
WEBSITE:https://hornseyhistorical.org.uk/events/
URL:https://hornseyhistorical.org.uk/events/
CONTACT:
ORGANIZER;CN="Deirdre Stowell-Smith":https://bowesandbounds.org/profil
 e/DeirdreStowellSmith
ATTACH;FMTTYPE="image/jpeg":https://storage.ning.com/topology/rest/1.0
 /file/get/3076238714?profile=original
ATTENDEE;ROLE=REQ-PARTICIPANT;PARTSTAT=ACCEPTED;RSVP=TRUE;CN="Deirdre 
 Stowell-Smith":https://bowesandbounds.org/profile/DeirdreStowellSmith
END:VEVENT
END:VCALENDAR
