BEGIN:VCALENDAR
PRODID:NingEventWidget-v1
VERSION:2.0
METHOD:PUBLISH
BEGIN:VTIMEZONE
TZID:Europe/London
X-LIC-LOCATION:Europe/London
BEGIN:DAYLIGHT
TZOFFSETFROM:+0000
TZOFFSETTO:+0100
TZNAME:BST
DTSTART:19700329T010000
RRULE:FREQ=YEARLY;BYMONTH=3;BYDAY=-1SU
END:DAYLIGHT
BEGIN:STANDARD
TZOFFSETFROM:+0100
TZOFFSETTO:+0000
TZNAME:GMT
DTSTART:19701025T020000
RRULE:FREQ=YEARLY;BYMONTH=10;BYDAY=-1SU
END:STANDARD
END:VTIMEZONE
BEGIN:VEVENT
UID:6278630:Event:134210
DTSTAMP:20260424T075510Z
SUMMARY:HORNSEY HISTORICAL SOCIETY : LOCAL HISTORY SURGERY
DESCRIPTION:\nWould you like help conducting your own local history re
 search? Then come along to our regular local history surgery.\nAll mem
 bers of the public, as well as members of the HHS and the Crouch End a
 nd District U3A who would like advice and assistant on their own perso
 nal local history research are invited to attend.\nJust telephone 0753
 1866714 or email hornseyhistoricalsurgery@gmail.com in advance to book
  a half hour appointment and let us know the advice and assistance you
  require.\"HIS\n\nFor more information visit https://bowesandbounds.or
 g/events/hornsey-historical-society-local-history-surgery-3
DTSTART;TZID=Europe/London:20190202T103000
DTEND;TZID=Europe/London:20190202T143000
CATEGORIES:"history surgery"
LOCATION:The Old Schoolhouse
WEBSITE:https://www.google.co.uk/maps/place/The+Old+School+House,+136+
 Tottenham+Ln,+London+N8+7EL/@51.5839493,-0.1187143,17z/data=!3m1!4b1!4
 m5!3m4!1s0x48761be9f20c6ba1:0xa2d5ef2b4a073405!8m2!3d51.583946!4d-0.11
 65256
URL:https://www.google.co.uk/maps/place/The+Old+School+House,+136+Tott
 enham+Ln,+London+N8+7EL/@51.5839493,-0.1187143,17z/data=!3m1!4b1!4m5!3
 m4!1s0x48761be9f20c6ba1:0xa2d5ef2b4a073405!8m2!3d51.583946!4d-0.116525
 6
CONTACT:
ORGANIZER;CN="Deirdre Stowell-Smith":https://bowesandbounds.org/profil
 e/DeirdreStowellSmith
ATTACH;FMTTYPE="image/jpeg":
ATTENDEE;ROLE=REQ-PARTICIPANT;PARTSTAT=ACCEPTED;RSVP=TRUE;CN="Deirdre 
 Stowell-Smith":https://bowesandbounds.org/profile/DeirdreStowellSmith
END:VEVENT
END:VCALENDAR
