BEGIN:VCALENDAR
PRODID:NingEventWidget-v1
VERSION:2.0
METHOD:PUBLISH
BEGIN:VTIMEZONE
TZID:Europe/London
X-LIC-LOCATION:Europe/London
BEGIN:DAYLIGHT
TZOFFSETFROM:+0000
TZOFFSETTO:+0100
TZNAME:BST
DTSTART:19700329T010000
RRULE:FREQ=YEARLY;BYMONTH=3;BYDAY=-1SU
END:DAYLIGHT
BEGIN:STANDARD
TZOFFSETFROM:+0100
TZOFFSETTO:+0000
TZNAME:GMT
DTSTART:19701025T020000
RRULE:FREQ=YEARLY;BYMONTH=10;BYDAY=-1SU
END:STANDARD
END:VTIMEZONE
BEGIN:VEVENT
UID:6278630:Event:136307
DTSTAMP:20260424T020054Z
SUMMARY:HORNSEY HISTORICAL SOCIETY : Local History Surgery
DESCRIPTION:Would you like help conducting your own local history rese
 arch ? Then come along to our regular local history surgery.\nAll memb
 ers of the public as well as members of the HHS and the Crouch End and
  District U3A who would like advice and assistance on their own person
 al local history research are invited to attend.\nTelephone 07531 8667
 14 or email hornseyhistoricalsurgery@gmail.com to book a half hour app
 ointment and let us know what assistance you require.\nFurther Details
  at hornseyhistorical.org.uk/whatson\n\nFor more information visit htt
 ps://bowesandbounds.org/events/hornsey-historical-society-local-histor
 y-surgery-5
DTSTART;TZID=Europe/London:20190504T103000
DTEND;TZID=Europe/London:20190504T143000
CATEGORIES:"history surgery"
LOCATION:The Old Schoolhouse,
WEBSITE:http://www.hornseyhistorical.org.uk
URL:http://www.hornseyhistorical.org.uk
CONTACT:
ORGANIZER;CN="Deirdre Stowell-Smith":https://bowesandbounds.org/profil
 e/DeirdreStowellSmith
ATTACH;FMTTYPE="image/jpeg":https://storage.ning.com/topology/rest/1.0
 /file/get/1115698230?profile=original
ATTENDEE;ROLE=REQ-PARTICIPANT;PARTSTAT=ACCEPTED;RSVP=TRUE;CN="Deirdre 
 Stowell-Smith":https://bowesandbounds.org/profile/DeirdreStowellSmith
END:VEVENT
END:VCALENDAR
