BEGIN:VCALENDAR
PRODID:NingEventWidget-v1
VERSION:2.0
METHOD:PUBLISH
BEGIN:VTIMEZONE
TZID:Europe/London
X-LIC-LOCATION:Europe/London
BEGIN:DAYLIGHT
TZOFFSETFROM:+0000
TZOFFSETTO:+0100
TZNAME:BST
DTSTART:19700329T010000
RRULE:FREQ=YEARLY;BYMONTH=3;BYDAY=-1SU
END:DAYLIGHT
BEGIN:STANDARD
TZOFFSETFROM:+0100
TZOFFSETTO:+0000
TZNAME:GMT
DTSTART:19701025T020000
RRULE:FREQ=YEARLY;BYMONTH=10;BYDAY=-1SU
END:STANDARD
END:VTIMEZONE
BEGIN:VEVENT
UID:6278630:Event:136774
DTSTAMP:20260423T225245Z
SUMMARY:HORNSEY HISTORICAL SOCIETY : Local History Surgery
DESCRIPTION:\nWould you like help conducting your own local history re
 search ? Then come along to our regular local history surgery.\nAll me
 mbers of the public as well as members of the HHS and the Crouch End a
 nd District U3A who would like advice and assistance on their own pers
 onal local history research are invited to attend.\nTelephone 07531 86
 6714 or email hornseyhistoricalsurgery@gmail.com to book a half hour a
 ppointment and let us know what assistance you require.\nFurther Detai
 ls at hornseyhistorical.org.uk/whatson\n\nFor more information visit h
 ttps://bowesandbounds.org/events/hornsey-historical-society-local-hist
 ory-surgery-6
DTSTART;TZID=Europe/London:20190706T103000
DTEND;TZID=Europe/London:20190706T143000
CATEGORIES:"local history surgery"
LOCATION:The Old Schoolhouse,
WEBSITE:https://www.google.co.uk/maps/place/Hornsey+Historical+Society
 /@51.582791,-0.1206354,17z/data=!3m1!4b1!4m5!3m4!1s0x48761be9f20c6ba1:
 0xef6baf312ff1a1b3!8m2!3d51.582791!4d-0.1184467
URL:https://www.google.co.uk/maps/place/Hornsey+Historical+Society/@51
 .582791,-0.1206354,17z/data=!3m1!4b1!4m5!3m4!1s0x48761be9f20c6ba1:0xef
 6baf312ff1a1b3!8m2!3d51.582791!4d-0.1184467
CONTACT:
ORGANIZER;CN="Deirdre Stowell-Smith":https://bowesandbounds.org/profil
 e/DeirdreStowellSmith
ATTACH;FMTTYPE="image/jpeg":https://storage.ning.com/topology/rest/1.0
 /file/get/3076238714?profile=original
ATTENDEE;ROLE=REQ-PARTICIPANT;PARTSTAT=ACCEPTED;RSVP=TRUE;CN="Deirdre 
 Stowell-Smith":https://bowesandbounds.org/profile/DeirdreStowellSmith
END:VEVENT
END:VCALENDAR
