BEGIN:VCALENDAR
PRODID:NingEventWidget-v1
VERSION:2.0
METHOD:PUBLISH
BEGIN:VTIMEZONE
TZID:Europe/London
X-LIC-LOCATION:Europe/London
BEGIN:DAYLIGHT
TZOFFSETFROM:+0000
TZOFFSETTO:+0100
TZNAME:BST
DTSTART:19700329T010000
RRULE:FREQ=YEARLY;BYMONTH=3;BYDAY=-1SU
END:DAYLIGHT
BEGIN:STANDARD
TZOFFSETFROM:+0100
TZOFFSETTO:+0000
TZNAME:GMT
DTSTART:19701025T020000
RRULE:FREQ=YEARLY;BYMONTH=10;BYDAY=-1SU
END:STANDARD
END:VTIMEZONE
BEGIN:VEVENT
UID:6278630:Event:137530
DTSTAMP:20260423T184327Z
SUMMARY:HORNSEY HISTORICAL SOCIETY : Local History Surgery
DESCRIPTION:Would you like help conducting your own local history rese
 arch? Then come along to our regular local history surgery.\nAll membe
 rs of the public, as well as members of the HHS and the Crouch End and
  District U3A who would like advice and assistant on their own persona
 l local history research are invited to attend. Just telephone 0753186
 6714 or email hornseyhistoricalsurgery@gmail.com in advance to book a 
 half hour appointment and let us know the advice and assistance you re
 quire.\n\nFor more information visit https://bowesandbounds.org/events
 /hornsey-historical-society-local-history-surgery-7
DTSTART;TZID=Europe/London:20190907T103000
DTEND;TZID=Europe/London:20190907T143000
CATEGORIES:"history surgery"
LOCATION:The Old Schoolhouse
WEBSITE:https://www.google.com/maps/place/Tottenham+Ln,+Crouch+End,+Lo
 ndon+N8+7EL/@51.5831275,-0.1191609,18z/data=!4m5!3m4!1s0x48761be9f26ac
 789:0xf092dd46d04d16c2!8m2!3d51.5838942!4d-0.1169052
URL:https://www.google.com/maps/place/Tottenham+Ln,+Crouch+End,+London
 +N8+7EL/@51.5831275,-0.1191609,18z/data=!4m5!3m4!1s0x48761be9f26ac789:
 0xf092dd46d04d16c2!8m2!3d51.5838942!4d-0.1169052
CONTACT:
ORGANIZER;CN="Deirdre Stowell-Smith":https://bowesandbounds.org/profil
 e/DeirdreStowellSmith
ATTACH;FMTTYPE="image/jpeg":https://storage.ning.com/topology/rest/1.0
 /file/get/3389704223?profile=original
ATTENDEE;ROLE=REQ-PARTICIPANT;PARTSTAT=ACCEPTED;RSVP=TRUE;CN="Deirdre 
 Stowell-Smith":https://bowesandbounds.org/profile/DeirdreStowellSmith
END:VEVENT
END:VCALENDAR
