BEGIN:VCALENDAR
PRODID:NingEventWidget-v1
VERSION:2.0
METHOD:PUBLISH
BEGIN:VTIMEZONE
TZID:Europe/London
X-LIC-LOCATION:Europe/London
BEGIN:DAYLIGHT
TZOFFSETFROM:+0000
TZOFFSETTO:+0100
TZNAME:BST
DTSTART:19700329T010000
RRULE:FREQ=YEARLY;BYMONTH=3;BYDAY=-1SU
END:DAYLIGHT
BEGIN:STANDARD
TZOFFSETFROM:+0100
TZOFFSETTO:+0000
TZNAME:GMT
DTSTART:19701025T020000
RRULE:FREQ=YEARLY;BYMONTH=10;BYDAY=-1SU
END:STANDARD
END:VTIMEZONE
BEGIN:VEVENT
UID:6278630:Event:132131
DTSTAMP:20260419T141605Z
SUMMARY:HORNSEY HISTORICAL SOCIETY : PUBLIC LOCAL HISTORY SURGERY
DESCRIPTION:\nWould you like help conducting your own local history re
 search ? Then come along to our regular local history surgery.\nAll me
 mbers of the public as well as members of the Hornsey Historical Socie
 ty and the Crouch End and District U3A are invited to attend.\nTelepho
 ne 07531866714 or email hornseyhistoricalsurgery@gmail.com to book a h
 alf hour appointment.\n\nFor more information visit https://bowesandbo
 unds.org/events/hornsey-historical-society-public-local-history-surger
 y-2
DTSTART;TZID=Europe/London:20180901T103000
DTEND;TZID=Europe/London:20180901T143000
CATEGORIES:"history surgery"
LOCATION:THE OLD SCHOOLHOUSE
WEBSITE:https://www.google.co.uk/maps/place/Hornsey+Historical+Society
 /@51.582791,-0.1206354,878m/data=!3m2!1e3!4b1!4m5!3m4!1s0x48761be9f20c
 6ba1:0xef6baf312ff1a1b3!8m2!3d51.582791!4d-0.1184467
URL:https://www.google.co.uk/maps/place/Hornsey+Historical+Society/@51
 .582791,-0.1206354,878m/data=!3m2!1e3!4b1!4m5!3m4!1s0x48761be9f20c6ba1
 :0xef6baf312ff1a1b3!8m2!3d51.582791!4d-0.1184467
CONTACT:07531866714
ORGANIZER;CN="Deirdre Stowell-Smith":https://bowesandbounds.org/profil
 e/DeirdreStowellSmith
ATTACH;FMTTYPE="image/jpeg":
ATTENDEE;ROLE=REQ-PARTICIPANT;PARTSTAT=ACCEPTED;RSVP=TRUE;CN="Deirdre 
 Stowell-Smith":https://bowesandbounds.org/profile/DeirdreStowellSmith
END:VEVENT
END:VCALENDAR
