BEGIN:VCALENDAR
PRODID:NingEventWidget-v1
VERSION:2.0
METHOD:PUBLISH
BEGIN:VTIMEZONE
TZID:Europe/London
X-LIC-LOCATION:Europe/London
BEGIN:DAYLIGHT
TZOFFSETFROM:+0000
TZOFFSETTO:+0100
TZNAME:BST
DTSTART:19700329T010000
RRULE:FREQ=YEARLY;BYMONTH=3;BYDAY=-1SU
END:DAYLIGHT
BEGIN:STANDARD
TZOFFSETFROM:+0100
TZOFFSETTO:+0000
TZNAME:GMT
DTSTART:19701025T020000
RRULE:FREQ=YEARLY;BYMONTH=10;BYDAY=-1SU
END:STANDARD
END:VTIMEZONE
BEGIN:VEVENT
UID:6278630:Event:140168
DTSTAMP:20260419T125307Z
SUMMARY:HORNSEY HISTORICAL SOCIETY : LOCAL HISTORY SURGERY
DESCRIPTION:Would you like help conducting your own local history rese
 arch? Then come along to our regular local history surgery.\nAll membe
 rs of the public, as well as members of the HHS and the Crouch End and
  District U3A who would like advice and assistant on their own persona
 l local history research are invited to attend.\nJust telephone 075318
 66714 or email hornseyhistoricalsurgery@gmail.com in advance to book a
  half hour appointment and let us know the advice and assistance you r
 equire.\n\n\nFor more information visit https://bowesandbounds.org/eve
 nts/hornsey-historical-society-talk-beating-the-bounds
DTSTART;TZID=Europe/London:20200307T103000
DTEND;TZID=Europe/London:20200307T143000
CATEGORIES:"history surgery"
LOCATION:The Old Schoolhouse
WEBSITE:https://hornseyhistorical.org.uk/event/public-local-history-su
 rgery-18/
URL:https://hornseyhistorical.org.uk/event/public-local-history-surger
 y-18/
CONTACT:
ORGANIZER;CN="Deirdre Stowell-Smith":https://bowesandbounds.org/profil
 e/DeirdreStowellSmith
ATTACH;FMTTYPE="image/jpeg":https://storage.ning.com/topology/rest/1.0
 /file/get/3076238714?profile=original
ATTENDEE;ROLE=REQ-PARTICIPANT;PARTSTAT=ACCEPTED;RSVP=TRUE;CN="Deirdre 
 Stowell-Smith":https://bowesandbounds.org/profile/DeirdreStowellSmith
END:VEVENT
END:VCALENDAR
