BEGIN:VCALENDAR
PRODID:NingEventWidget-v1
VERSION:2.0
METHOD:PUBLISH
BEGIN:VTIMEZONE
TZID:Europe/London
X-LIC-LOCATION:Europe/London
BEGIN:DAYLIGHT
TZOFFSETFROM:+0000
TZOFFSETTO:+0100
TZNAME:BST
DTSTART:19700329T010000
RRULE:FREQ=YEARLY;BYMONTH=3;BYDAY=-1SU
END:DAYLIGHT
BEGIN:STANDARD
TZOFFSETFROM:+0100
TZOFFSETTO:+0000
TZNAME:GMT
DTSTART:19701025T020000
RRULE:FREQ=YEARLY;BYMONTH=10;BYDAY=-1SU
END:STANDARD
END:VTIMEZONE
BEGIN:VEVENT
UID:6278630:Event:101718
DTSTAMP:20260425T033548Z
SUMMARY:Hornsey Town Hall - Open House - 19th September
DESCRIPTION:Hornsey Town Hall (HTH) is a grade II* listed building. O
 nly 4% of listed buildings have this status, the next grade up is Grad
 e 1, e.g. Buckingham Palace. It is an award-winning piece of architect
 ure, now at risk of being sold to developers. There is a note here as 
 to why Hornsey Town Hall should not be disposed of in this way. Come 
 and visit whilst you still can. Here's what's on this Saturday:\n\nOp
 en Saturday 19th September only, from 10-3\nCrouch End Sings for the S
 yrians at 11am in the Square with Songworks Choir\nSOLD OUT - Free gui
 ded tours at: 10.30; 11.15; 12.00; 12.45; 13.30; 14.15; 15.00 now
  all full, but worth turning up in case of no shows.\nIllustrated talk
  by HTH expert Steve Amor in the Council Chamber at 12.00;13.30; 15.00
  – no booking necessary – open to all\nIn the foyer: stalls - Horn
 sey Historical Society, HTH Appreciation Society; exhibition on HTH\nI
 n and around the hall during day: art exhibition by HTH artists, theat
 re-dance event in square in afternoon, \nCafé/bar open all day.\nMor
 e information: http://events.londonopenhouse.org/building/2128\nA bea
 utiful building, a great community asset, please sign the petition to 
 save Hornsey Town Hall for the community here: http://www.ipetitions.
 com/petition/save-hornsey-town-hall \n\n\n\n\nFor more information vi
 sit https://bowesandbounds.org/events/hornsey-town-hall-open-house-19t
 h-september
DTSTART;TZID=Europe/London:20150919T100000
DTEND;TZID=Europe/London:20150919T160000
CATEGORIES:open, house
LOCATION:Hornsey Town Hall
WEBSITE:http://www.hthartscentre.co.uk/#!open-house-2015/yoc0l
URL:http://www.hthartscentre.co.uk/#!open-house-2015/yoc0l
CONTACT:
ORGANIZER:http://www.hthartscentre.co.uk/#!open-house-2015/yoc0l
ATTACH;FMTTYPE="image/jpeg":http://storage.ning.com/topology/rest/1.0/
 file/get/2287298182?profile=original
ATTENDEE;ROLE=REQ-PARTICIPANT;PARTSTAT=ACCEPTED;RSVP=TRUE;CN="Adrian E
 ssex":https://bowesandbounds.org/profile/AdrianEssex
END:VEVENT
END:VCALENDAR
