BEGIN:VCALENDAR
PRODID:NingEventWidget-v1
VERSION:2.0
METHOD:PUBLISH
BEGIN:VTIMEZONE
TZID:Europe/London
X-LIC-LOCATION:Europe/London
BEGIN:DAYLIGHT
TZOFFSETFROM:+0000
TZOFFSETTO:+0100
TZNAME:BST
DTSTART:19700329T010000
RRULE:FREQ=YEARLY;BYMONTH=3;BYDAY=-1SU
END:DAYLIGHT
BEGIN:STANDARD
TZOFFSETFROM:+0100
TZOFFSETTO:+0000
TZNAME:GMT
DTSTART:19701025T020000
RRULE:FREQ=YEARLY;BYMONTH=10;BYDAY=-1SU
END:STANDARD
END:VTIMEZONE
BEGIN:VEVENT
UID:6278630:Event:187869
DTSTAMP:20260422T184642Z
SUMMARY:Hot Tips For Warm Homes - online home energy-saving advice
DESCRIPTION:Be warm and cosy this winter.. Muswell Hill Sustainability
  Group invites you to an online home energy-saving workshop:\nMonday 1
 6th November, 7.30pmHot Tips for Warm Homes \nWinter is approaching -
  find out how to get your home warm and cosy, cut your bills and save 
 carbon in this our final Green Homes Online 2020 event. In a live int
 eractive Zoom session, Tom Ruxton of The HEET Project, Waltham Fore
 st will fill you in on:- low cost insulation and draught-proofing- swi
 tching energy supplier or tariff- changing habits to save energy-  re
 newable energy options. Please book your free place online - last boo
 kings one hour before the start.Book here \n\nFor more information vi
 sit https://bowesandbounds.org/events/hot-tips-for-warm-homes-online-h
 ome-energy-saving-advice
DTSTART;TZID=Europe/London:20201116T193000
DTEND;TZID=Europe/London:20201116T203000
CATEGORIES:home, energy, advice, event
LOCATION:Online via Zoom
WEBSITE:https://www.eventbrite.co.uk/e/mhsg-green-homes-hot-tips-for-a
 -warm-home-tickets-124459300117
URL:https://www.eventbrite.co.uk/e/mhsg-green-homes-hot-tips-for-a-war
 m-home-tickets-124459300117
CONTACT:
ORGANIZER;CN="Mary Blake":https://bowesandbounds.org/profile/MaryBlake
ATTACH;FMTTYPE="image/jpeg":
ATTENDEE;ROLE=REQ-PARTICIPANT;PARTSTAT=ACCEPTED;RSVP=TRUE;CN="Mary Bla
 ke":https://bowesandbounds.org/profile/MaryBlake
END:VEVENT
END:VCALENDAR
