BEGIN:VCALENDAR
PRODID:NingEventWidget-v1
VERSION:2.0
METHOD:PUBLISH
BEGIN:VTIMEZONE
TZID:Europe/London
X-LIC-LOCATION:Europe/London
BEGIN:DAYLIGHT
TZOFFSETFROM:+0000
TZOFFSETTO:+0100
TZNAME:BST
DTSTART:19700329T010000
RRULE:FREQ=YEARLY;BYMONTH=3;BYDAY=-1SU
END:DAYLIGHT
BEGIN:STANDARD
TZOFFSETFROM:+0100
TZOFFSETTO:+0000
TZNAME:GMT
DTSTART:19701025T020000
RRULE:FREQ=YEARLY;BYMONTH=10;BYDAY=-1SU
END:STANDARD
END:VTIMEZONE
BEGIN:VEVENT
UID:6278630:Event:251141
DTSTAMP:20260422T021504Z
SUMMARY:IGNITED LDN
DESCRIPTION:\nJoin Short Stay Records for our debut release party — 
 headlined by the soulful Labisi — and celebrate a night of live musi
 c, creativity, and community.\nDiscover performances from three exciti
 ng emerging artists, followed by an open jam and networking session.\n
 A fully stocked bar and vegan kitchen will be running all night.\nTick
 ets via QR code\n£5+eventbrite fee\n\nFor more information visit http
 s://bowesandbounds.org/events/ignited-ldn
DTSTART;TZID=Europe/London:20250704T180000
DTEND;TZID=Europe/London:20250704T220000
CATEGORIES:jazz, veganvenue, veganfood, livemusic
LOCATION:karamel, 4 Coburg Road, Wood Green, London N22 6UJ
WEBSITE:https://www.musicglue.com/karamel/events/2025-07-04-ignited-ld
 n-karamel
URL:https://www.musicglue.com/karamel/events/2025-07-04-ignited-ldn-ka
 ramel
CONTACT:
ORGANIZER;CN="Collage Artspaces":https://bowesandbounds.org/profile/Co
 llage_Arts
ATTACH;FMTTYPE="image/jpeg":https://storage.ning.com/topology/rest/1.0
 /file/get/13640979085?profile=original
ATTENDEE;ROLE=REQ-PARTICIPANT;PARTSTAT=ACCEPTED;RSVP=TRUE;CN="Collage 
 Artspaces":https://bowesandbounds.org/profile/Collage_Arts
END:VEVENT
END:VCALENDAR
