BEGIN:VCALENDAR
PRODID:NingEventWidget-v1
VERSION:2.0
METHOD:PUBLISH
BEGIN:VTIMEZONE
TZID:Europe/London
X-LIC-LOCATION:Europe/London
BEGIN:DAYLIGHT
TZOFFSETFROM:+0000
TZOFFSETTO:+0100
TZNAME:BST
DTSTART:19700329T010000
RRULE:FREQ=YEARLY;BYMONTH=3;BYDAY=-1SU
END:DAYLIGHT
BEGIN:STANDARD
TZOFFSETFROM:+0100
TZOFFSETTO:+0000
TZNAME:GMT
DTSTART:19701025T020000
RRULE:FREQ=YEARLY;BYMONTH=10;BYDAY=-1SU
END:STANDARD
END:VTIMEZONE
BEGIN:VEVENT
UID:6278630:Event:140405
DTSTAMP:20260419T143907Z
SUMMARY:Indian Classical
DESCRIPTION:A night of Indian Classical music with a North London twis
 t.\nYousuf Ali Khan, a highly valued and influential core member of th
 e Grand Union Orchestra for 25 years.\nBorn into a famous dynasty of B
 engali musicians and a pupil of the renowned master Ali Akhbar Khan, Y
 ousuf began playing tabla at the age of five, later studying in Kolkat
 a. He is now an internationally-acclaimed performer and accompanist of
  choice for Bangladeshi and Indian musicians visiting the UK.\nJonatha
 n has performed all over the world including, France, Germany, Russia,
  United Arab Emirates, Australia, America, Bangladesh, Sri Lanka, and 
 two very successful tours in India (including a performance at The Dov
 er Lane Music Conference) as well as a number of performances for the 
 BBC in the UK.\nPlaying drums from childhood, Clarvis played jazz and 
 rock while at school and performed with the National Youth Orchestra. 
 After two years at the Royal College of Music he became a full-time mu
 sician. He continued playing jazz, but his interests also turned to fo
 lk. Clarvis also played classical music, working with the BBC Symphony
  Orchestra on a performance of Harrison Birtwistle’s, played at the 
 last night of the Proms, and London Sinfonietta.\nDoors at 7, music fr
 om 8.\n\nFor more information visit https://bowesandbounds.org/events/
 indian-classical
DTSTART;TZID=Europe/London:20200311T190000
DTEND;TZID=Europe/London:20200311T230000
CATEGORIES:music
LOCATION:KaramelN22
WEBSITE:https://www.musicglue.com/karamel/events/2020-03-11-indian-cla
 ssical-karamel
URL:https://www.musicglue.com/karamel/events/2020-03-11-indian-classic
 al-karamel
CONTACT:
ORGANIZER;CN="Collage Arts":https://bowesandbounds.org/profile/Collage
 Arts105
ATTACH;FMTTYPE="image/jpeg":https://storage.ning.com/topology/rest/1.0
 /file/get/3859625836?profile=original
ATTENDEE;ROLE=REQ-PARTICIPANT;PARTSTAT=ACCEPTED;RSVP=TRUE;CN="Collage 
 Arts":https://bowesandbounds.org/profile/CollageArts105
END:VEVENT
END:VCALENDAR
