BEGIN:VCALENDAR
PRODID:NingEventWidget-v1
VERSION:2.0
METHOD:PUBLISH
BEGIN:VTIMEZONE
TZID:Europe/London
X-LIC-LOCATION:Europe/London
BEGIN:DAYLIGHT
TZOFFSETFROM:+0000
TZOFFSETTO:+0100
TZNAME:BST
DTSTART:19700329T010000
RRULE:FREQ=YEARLY;BYMONTH=3;BYDAY=-1SU
END:DAYLIGHT
BEGIN:STANDARD
TZOFFSETFROM:+0100
TZOFFSETTO:+0000
TZNAME:GMT
DTSTART:19701025T020000
RRULE:FREQ=YEARLY;BYMONTH=10;BYDAY=-1SU
END:STANDARD
END:VTIMEZONE
BEGIN:VEVENT
UID:6278630:Event:139302
DTSTAMP:20260423T101914Z
SUMMARY:Indian Train Station super club
DESCRIPTION:So we have exciting news, we have collaborated with Blue G
 ods Butter to bring you our twist on an Indian train station feast. To
  Book Either pop in to us on Bowes Park station Platform & email leafy
 beanco@gmail.com\n\n\nFancy going out but want to stay local?\nWhy not
  enjoy some delicious vegetarian Indianfood, all served in tiffin tins
  at Leafy Bean Cafe.30 November 2019 from 6pm£ 25 per person - includ
 es a beer\nOne tiffin tin shared between two adventurersTwo sittings B
 ook either 6pm to 7.30pm or\n8.00 to 9.30pm\n\nMenu:\nCheat-chaat: chi
 ckpea and roasted sweet potato on blue corn tortilla chips with coconu
 t yoghurt, tamarind and coriander \nDhokla: fluffy savoury cake with 
 mint chutney\nDaal salad with burnt aubergine with a mint,  yoghurt a
 nd walnut dressing\nAchari Paneer: cubed paneer cooked with lemon rind
  pickle and spice \nZarda: sweetened rice with coconut, raisins and a
 lmonds \nNaan bread\n\n\nFor more information visit https://bowesandb
 ounds.org/events/indian-train-station-super-club
DTSTART;TZID=Europe/London:20191130T180000
DTEND;TZID=Europe/London:20191130T220000
CATEGORIES:super, club
LOCATION:Leafy Bean Co - Bowes Park Station
WEBSITE:http://www.leafybeancompany.com
URL:http://www.leafybeancompany.com
CONTACT:
ORGANIZER;CN="Leafy Bean Company":https://bowesandbounds.org/profile/L
 auramonk
ATTACH;FMTTYPE="image/jpeg":https://storage.ning.com/topology/rest/1.0
 /file/get/3719991649?profile=original
ATTENDEE;ROLE=REQ-PARTICIPANT;PARTSTAT=ACCEPTED;RSVP=TRUE;CN="Leafy Be
 an Company":https://bowesandbounds.org/profile/Lauramonk
END:VEVENT
END:VCALENDAR
