BEGIN:VCALENDAR
PRODID:NingEventWidget-v1
VERSION:2.0
METHOD:PUBLISH
BEGIN:VTIMEZONE
TZID:Europe/London
X-LIC-LOCATION:Europe/London
BEGIN:DAYLIGHT
TZOFFSETFROM:+0000
TZOFFSETTO:+0100
TZNAME:BST
DTSTART:19700329T010000
RRULE:FREQ=YEARLY;BYMONTH=3;BYDAY=-1SU
END:DAYLIGHT
BEGIN:STANDARD
TZOFFSETFROM:+0100
TZOFFSETTO:+0000
TZNAME:GMT
DTSTART:19701025T020000
RRULE:FREQ=YEARLY;BYMONTH=10;BYDAY=-1SU
END:STANDARD
END:VTIMEZONE
BEGIN:VEVENT
UID:6278630:Event:93818
DTSTAMP:20260419T125409Z
SUMMARY:Indigo Live: Kefaya – Radio International
DESCRIPTION:Fresh from their successful India tour, Kefaya are coming 
 to the Karamel Club in London on Wed 29th April and will be performing
  songs from their highly anticipated album “Radio International”.\
 nRadio International is Kefaya’s debut album although each musician 
 within the international collective has years of performing and solo a
 lbum in their portfolio. Kefaya was founded by London-based musicians 
 and producers, Giuliano Modarelli and Al MacSween. Using recordings co
 llected over years of travelling and collaborating with musicians acro
 ss the globe, Radio International is the soundtrack to a journey acros
 s musical and geographical boundaries. Kefaya organically combine elec
 tronic production with virtuosic improvisation, with influences spanni
 ng across India, Europe and Africa to the Caribbean and the Middle Eas
 t.\nTuned-in to the struggle for equality and liberation, Radio Intern
 ational broadcasts stories of migration, tales of musical encounters a
 nd sounds of resistance.\n“Impressive musicianship” – London Eve
 ning Standard\n“Ridiculously good” – Washington Post\n“A uniqu
 e voice” – Nitin Sawhney\nTickets: https://www.eventbrite.co.uk/e/
 indigo-live-kefaya-radio-international-tickets-16485602882\nDoors open
  at 7:00pm. Music Starts at 8:00pm.\n\nFor more information visit http
 s://bowesandbounds.org/events/indigo-live-kefaya-radio-international
DTSTART;TZID=Europe/London:20150429T190000
DTEND;TZID=Europe/London:20150429T223000
CATEGORIES:"live music"
LOCATION:Wood Green
WEBSITE:http://karamelrestaurant.com/event/indigo-live-kefaya-radio-in
 ternational
URL:http://karamelrestaurant.com/event/indigo-live-kefaya-radio-intern
 ational
CONTACT:020 8829 8989
ORGANIZER;CN="Collage Artspaces":https://bowesandbounds.org/profile/Co
 llage_Arts
ATTACH;FMTTYPE="image/jpeg":http://storage.ning.com/topology/rest/1.0/
 file/get/2287287476?profile=original
ATTENDEE;ROLE=REQ-PARTICIPANT;PARTSTAT=ACCEPTED;RSVP=TRUE;CN="Collage 
 Artspaces":https://bowesandbounds.org/profile/Collage_Arts
END:VEVENT
END:VCALENDAR
